BEGIN:VCALENDAR
VERSION:2.0
PRODID:-//ChamberMaster//Event Calendar 2.0//EN
METHOD:PUBLISH
X-PUBLISHED-TTL:P3D
REFRESH-INTERVAL:P3D
CALSCALE:GREGORIAN
BEGIN:VEVENT
DTSTART:20200826T160000Z
DTEND:20200826T173000Z
X-MICROSOFT-CDO-ALLDAYEVENT:FALSE
SUMMARY:Network\, Present & Refer
DESCRIPTION:The Chamber presents a Network\, Present & Refer event on Wednesday\, August 26th at 12 PM. Chamber members from all categories will be able to present for 2 minutes to a collection of 25 members - describing their business or organization\, what they may be doing differently in today's world\, and who is a good referral source is for them. Attendees are limited to one per organization and one per industry. \n\n\n\n***Attendees have the option of attending in person or via Zoom.\n\n\n\nRegistration is required and will need to be approved to ensure industry exclusivity.\n\nOther similar events will be scheduled later.\n\n\n\nInterested in registering? Please email jgalow@dcrcoc.org\n\n\n\nSponsored by: JGS CPAs
X-ALT-DESC;FMTTYPE=text/html:<span style="font-family:times new roman\;"><span style="color: rgb(0\, 0\, 0)\; font-size: 16px\;"><span style="background-image: initial\; background-position: initial\; background-size: initial\; background-repeat: initial\; background-attachment: initial\; background-origin: initial\; background-clip: initial\;">The Chamber presents a Network\, Present &amp\; Refer event on Wednesday\, August 26th at 12 PM. Chamber members from all categories will be able to present for 2 minutes to a collection of 25 members - describing their business or organization\, what they may be doing differently in today&#39\;s world\, and who is a good referral source is for them. Attendees are limited to one per organization and one per industry.&nbsp\;</span></span><br />\n<br />\n<span style="font-size:18px\;"><strong><span style="background:yellow\;"><span style="color:black\;">***Attendees have the option of attending in person or via Zoom.</span></span></strong></span></span><br />\n<br />\n<span style="font-family:times new roman\;"><span style="color: rgb(0\, 0\, 0)\; font-size: 16px\;">Registration is required and will need to be approved to ensure industry exclusivity.</span><br style="font-family: tahoma\; font-size: 16px\;" />\n<span style="font-size:16px\;"><span style="background-image: initial\; background-position: initial\; background-size: initial\; background-repeat: initial\; background-attachment: initial\; background-origin: initial\; background-clip: initial\;"><font color="#000000">Other similar events will be scheduled later.</font><br />\n<br />\n<font color="#000000">Interested in registering? Please email </font></span><a href="mailto:jgalow@dcrcoc.org"><span style="color:#0000FF\;"><strong>jgalow@dcrcoc.org</strong></span></a></span></span><br style="font-family: tahoma\; font-size: 16px\;" />\n<br style="font-family: tahoma\; font-size: 16px\;" />\n<span style="font-size:18px\;"><span style="font-family:times new roman\;"><strong><span style="color:#333333\;">Sponsored by:&nbsp\;</span><a href="https://jgspc.com/" target="_blank"><span style="color:#0000FF\;">JGS CPAs</span></a></strong></span></span><br />\n&nbsp\;
LOCATION:Changepoint Church - Chapel 260 Mill Street Poughkeepsie
UID:e.2770.10484433
SEQUENCE:3
DTSTAMP:20260422T015209Z
URL:https://business.dcrcoc.org/events/details/network-present-refer-10484433
END:VEVENT

END:VCALENDAR
