BEGIN:VCALENDAR
VERSION:2.0
PRODID:-//ChamberMaster//Event Calendar 2.0//EN
METHOD:PUBLISH
X-PUBLISHED-TTL:P3D
REFRESH-INTERVAL:P3D
CALSCALE:GREGORIAN
BEGIN:VEVENT
DTSTART:20180924T220000Z
DTEND:20180925T010000Z
X-MICROSOFT-CDO-ALLDAYEVENT:FALSE
SUMMARY:New Beginnings Plastic & Reconstructive Surgery - ABC's of Manscaping
DESCRIPTION:ABC's of Manscaping\n\nFirst 20 Units of Botox for the Gentlemen is FREE and $11 per additional units.\n\n\n\nSignificant other get special pricing of $11 per unit of Botox.\n\n\n\nComplimentary Bourbon & Cider - Provided by Boutique Wines\, Spirits & Cider \n\n\n\nMultiple raffles giveaways\n\n\n\nCoolsculpting and Cutera Laser Hair Removal package prices\n\n\n\nSpace is limited RSVP to 845-454-6392 to reserve your spot.
X-ALT-DESC;FMTTYPE=text/html:<div style="text-align:center"><span style="font-size:16px"><u><strong>ABC&#39\;s of Manscaping</strong></u></span></div>\n\n<div style="text-align:center"><span style="background-color:transparent\; color:rgb(29\, 33\, 41)\; font-family:helvetica\,arial\,sans-serif\; font-size:14px">First 20 Units of Botox for the Gentlemen is FREE and $11 per additional units.</span><br />\n<br />\n<span style="background-color:transparent\; color:rgb(29\, 33\, 41)\; font-family:helvetica\,arial\,sans-serif\; font-size:14px">Significant other get special pricing of $11 per unit of Botox.</span><br />\n<br />\n<span style="background-color:transparent\; color:rgb(29\, 33\, 41)\; font-family:helvetica\,arial\,sans-serif\; font-size:14px">Complimentary Bourbon &amp\; Cider - Provided by Boutique Wines\, Spirits &amp\; Cider </span><br />\n<br />\n<span style="background-color:transparent\; color:rgb(29\, 33\, 41)\; font-family:helvetica\,arial\,sans-serif\; font-size:14px">Multiple raffles giveaways</span><br />\n<br />\n<span style="background-color:transparent\; color:rgb(29\, 33\, 41)\; font-family:helvetica\,arial\,sans-serif\; font-size:14px">Coolsculpting and Cutera Laser Hair Removal package prices</span><br />\n<br />\n<span style="background-color:transparent\; color:rgb(29\, 33\, 41)\; font-family:helvetica\,arial\,sans-serif\; font-size:14px">Space is limited RSVP to 845-454-6392 to reserve your spot.</span></div>\n
LOCATION:4 Liberty Street\, Third Floor Pougkeepsie NY 12601
UID:e.2770.10479459
SEQUENCE:3
DTSTAMP:20260425T131255Z
URL:https://business.dcrcoc.org/events/details/new-beginnings-plastic-reconstructive-surgery-abc-s-of-manscaping-10479459
END:VEVENT

END:VCALENDAR
