BEGIN:VCALENDAR
VERSION:2.0
PRODID:-//ChamberMaster//Event Calendar 2.0//EN
METHOD:PUBLISH
X-PUBLISHED-TTL:P3D
REFRESH-INTERVAL:P3D
CALSCALE:GREGORIAN
BEGIN:VEVENT
DTSTART:20180609T170000Z
DTEND:20180609T200000Z
X-MICROSOFT-CDO-ALLDAYEVENT:FALSE
SUMMARY:Botox at the Salt Cave
DESCRIPTION:Botox at the Salt Cave-New Beginnings Plastic & Reconstructive Surgery will be at the Hudson Valley Healing Center. \n\nGet your BoTox treatment at the Hudson Valley Healing Center.\n\n50 is the New 35\n\nGet 50 units of Botox for the price of 35 units!\n\nDr Silverman will talk about all the injectables that are offered at New Beginnings Plastic and Reconstructive Surgery.\n\nHudson Valley Healing Center features Himalayan salt caves where you can sit back\, relax and soak in the healing benefits.\n\nEvent Attendees will be offered Special Pricing \n\nFree Raffles\n\nHors d'oeuvre and Drinks\n\nPlease RSVP to 845-454-6392 if you want to get injected with Botox during the event.
X-ALT-DESC;FMTTYPE=text/html:<span style="background-color:transparent\; color:rgb(75\, 79\, 86)\; font-family:helvetica\,arial\,sans-serif\; font-size:14px">Botox at the Salt Cave-New Beginnings Plastic &amp\; Reconstructive Surgery will be at the Hudson Valley Healing Center. </span><br />\n<span style="background-color:transparent\; color:rgb(75\, 79\, 86)\; font-family:helvetica\,arial\,sans-serif\; font-size:14px">Get your BoTox treatment at the Hudson Valley Healing Center.</span><br />\n<span style="background-color:transparent\; color:rgb(75\, 79\, 86)\; font-family:helvetica\,arial\,sans-serif\; font-size:14px">50 is the New 35</span><br />\n<span style="background-color:transparent\; color:rgb(75\, 79\, 86)\; font-family:helvetica\,arial\,sans-serif\; font-size:14px">Get 50 units of Botox for the price of 35 units!</span><br />\n<span style="background-color:transparent\; color:rgb(75\, 79\, 86)\; font-family:helvetica\,arial\,sans-serif\; font-size:14px">Dr Silverman will talk about all the injectables that are offered at New Beginnings Plastic and Reconstructive Surgery.</span><br />\n<span style="background-color:transparent\; color:rgb(75\, 79\, 86)\; font-family:helvetica\,arial\,sans-serif\; font-size:14px">Hudson Valley Healing Center features Himalayan salt caves where you can sit back\, relax and soak in the healing benefits.</span><br />\n<span style="background-color:transparent\; color:rgb(75\, 79\, 86)\; font-family:helvetica\,arial\,sans-serif\; font-size:14px">Event Attendees will be offered Special Pricing </span><br />\n<span style="background-color:transparent\; color:rgb(75\, 79\, 86)\; font-family:helvetica\,arial\,sans-serif\; font-size:14px">Free Raffles</span><br />\n<span style="background-color:transparent\; color:rgb(75\, 79\, 86)\; font-family:helvetica\,arial\,sans-serif\; font-size:14px">Hors d&rsquo\;oeuvre and Drinks</span><br />\n<span style="background-color:transparent\; color:rgb(75\, 79\, 86)\; font-family:helvetica\,arial\,sans-serif\; font-size:14px">Please RSVP to 845-454-6392 if you want to get injected with Botox during the event.</span>
LOCATION:51 Springside Ave. Poughkeepsie NY 12603 http://hudsonvalleyhealingcenter.com/
UID:e.2770.10477647
SEQUENCE:3
DTSTAMP:20260425T170505Z
URL:https://business.dcrcoc.org/events/details/new-beginnings-plastic-reconstructive-surgery-botox-at-the-salt-cave-10477647
END:VEVENT

END:VCALENDAR
