BEGIN:VCALENDAR
VERSION:2.0
PRODID:-//ChamberMaster//Event Calendar 2.0//EN
METHOD:PUBLISH
X-PUBLISHED-TTL:P3D
REFRESH-INTERVAL:P3D
CALSCALE:GREGORIAN
BEGIN:VEVENT
DTSTART:20171021T190000Z
DTEND:20171021T200000Z
X-MICROSOFT-CDO-ALLDAYEVENT:FALSE
SUMMARY:New Directions 2017 Artist Talks
DESCRIPTION:New Directions '17 artists Jason Isolini (Lake Peekskill & Brooklyn) and Elizabeth Panzer (New Paltz) will give illustrated artist's talks moderated by Monica Church\, Associate Director\, James W. Palmer '90 Gallery\, Vassar College on Saturday\, October 21\, 3-4:00.  The event is free and open to the public.
X-ALT-DESC;FMTTYPE=text/html:<em><span style="color:#222222"><span style="font-family:arial\,sans-serif">New Directions &rsquo\;17</span></span></em><span style="color:#222222"><span style="font-family:arial\,sans-serif"> artists Jason Isolini (Lake Peekskill &amp\; Brooklyn) and </span></span><span style="font-family:arial\,sans-serif">Elizabeth Panzer (New Paltz) <span style="color:#222222">will give illustrated artist&rsquo\;s talks moderated by Monica Church\, Associate Director\, James W. Palmer &rsquo\;90 Gallery\, Vassar College on Saturday\, October 21\, 3-4:00.&nbsp\; The event is free and open to the public.&nbsp\;</span></span>
LOCATION:Barrett Art Center 55 Noxon St Poughkeepsie\, NY 12601 www.barrettartcenter.org
UID:e.2770.10476356
SEQUENCE:3
DTSTAMP:20260426T033325Z
URL:https://business.dcrcoc.org/events/details/new-directions-2017-artist-talks-10476356
END:VEVENT

END:VCALENDAR
