BEGIN:VCALENDAR
VERSION:2.0
PRODID:-//ChamberMaster//Event Calendar 2.0//EN
METHOD:PUBLISH
X-PUBLISHED-TTL:P3D
REFRESH-INTERVAL:P3D
CALSCALE:GREGORIAN
BEGIN:VEVENT
DTSTART:20181006T190000Z
DTEND:20181006T220000Z
X-MICROSOFT-CDO-ALLDAYEVENT:FALSE
SUMMARY:Barrett Art Center presents: New Directions 2018/ BAC Juried Members' Show- Opening Reception
DESCRIPTION:Barrett Art Center presents: New Directions 2018/ BAC Juried Members' Show- Opening Reception\nPlease join us for the opening reception of New Directions 2018: 34th Annual National Juried Exhibition\, juried by Jennifer Inacio (Assistant Curator\, P rez Art Museum\, Miami). In the Crenson Gallery\, there will be the Barrett Art Center Juried Members' Show (located on the second floor)\, a selection of art curated by Karlyn Benson (Director\, Matteawan Gallery- Beacon\, NY) \n\n\n\nThe exhibition features drawing\, photography\, painting\, printmaking\, sculpture and video\, by artists from sixteen US states\, demonstrating a range of current trends in contemporary art. \n\nExhibition Dates: October 6- November 17\, 2018
X-ALT-DESC;FMTTYPE=text/html:<strong><u>Barrett Art Center presents: New Directions 2018/ BAC Juried Members&#39\; Show- Opening Reception</u></strong>\n<p>Please join us for the opening reception of New Directions 2018:&nbsp\;34th&nbsp\;Annual National Juried Exhibition\, juried by Jennifer&nbsp\;Inacio (Assistant Curator\,&nbsp\;P&eacute\;rez&nbsp\;Art Museum\, Miami). In the&nbsp\;Crenson&nbsp\;Gallery\, there will be the Barrett Art Center Juried Members&#39\; Show (located on the second floor)\, a selection of art curated by&nbsp\;Karlyn&nbsp\;Benson (Director\,&nbsp\;Matteawan&nbsp\;Gallery- Beacon\, NY)&nbsp\;<br />\n<br />\nThe exhibition features drawing\, photography\, painting\, printmaking\, sculpture and video\, by artists from sixteen US states\, demonstrating a range of current trends in contemporary art.&nbsp\;</p>\n\n<p><u>Exhibition Dates: October 6-&nbsp\;November 17\, 2018</u><br />\n&nbsp\;</p>\n\n<p>&nbsp\;</p>\n
LOCATION:Dutchess County Art Association/Barrett Art Center: 55 Noxon Street\, Poughkeepsie\, NY 12601
UID:e.2770.10479728
SEQUENCE:3
DTSTAMP:20260425T115050Z
URL:https://business.dcrcoc.org/events/details/new-directions-2018-bac-juried-members-show-opening-reception-10479728
END:VEVENT

END:VCALENDAR
