BEGIN:VCALENDAR
VERSION:2.0
PRODID:-//ChamberMaster//Event Calendar 2.0//EN
METHOD:PUBLISH
X-PUBLISHED-TTL:P3D
REFRESH-INTERVAL:P3D
CALSCALE:GREGORIAN
BEGIN:VEVENT
DTSTART:20190506T130000Z
DTEND:20190506T210000Z
X-MICROSOFT-CDO-ALLDAYEVENT:FALSE
SUMMARY:New Horizons Resource's 36th Annual Invitational Golf Tournament
DESCRIPTION:Check In & Registration 9 to 10 AM Shot gun tee off 10:00 AM Lunch at the turn 11:30 AM Hor d'oeuvres/2-hr cocktails 3 - 4 PM Buffet dinner/program 4 - 5 PM Arkansas Scramble format Raffles and silent auction
X-ALT-DESC;FMTTYPE=text/html:Check In &amp\; Registration 9 to 10 AM Shot gun tee off 10:00 AM Lunch at the turn 11:30 AM Hor d&#39\;oeuvres/2-hr cocktails 3 - 4 PM Buffet dinner/program 4 - 5 PM Arkansas Scramble format Raffles and silent auction
LOCATION:The Powelton Club 29 Balmville Road Newburgh\, NY
UID:e.2770.10479832
SEQUENCE:3
DTSTAMP:20260423T045607Z
URL:https://business.dcrcoc.org/events/details/new-horizons-resource-s-36th-annual-invitational-golf-tournament-10479832
END:VEVENT

END:VCALENDAR
