BEGIN:VCALENDAR
VERSION:2.0
PRODID:-//ChamberMaster//Event Calendar 2.0//EN
METHOD:PUBLISH
X-PUBLISHED-TTL:P3D
REFRESH-INTERVAL:P3D
CALSCALE:GREGORIAN
BEGIN:VEVENT
DTSTART:20181018T213000Z
DTEND:20181019T011500Z
X-MICROSOFT-CDO-ALLDAYEVENT:FALSE
SUMMARY:New Horizons Resources 15th Annual Fall Into Fashion Show
DESCRIPTION:Models walk the runway in fashions from local retailers\, A Special Occasion\, Banana Republic\, Catherines\, Pleasant Valley Department Store\, Rambling Rose and Simplicity Silent Auction and raffle tables include items from Sierra Lily\, Vera Bradley and Sephorra
X-ALT-DESC;FMTTYPE=text/html:Models walk the runway in fashions from local retailers\, A Special Occasion\, Banana Republic\, Catherines\, Pleasant Valley Department Store\, Rambling Rose and Simplicity Silent Auction and raffle tables include items from Sierra Lily\, Vera Bradley and Sephorra
LOCATION:The Poughkeepsie Grand Hotel 40 Civic Center Plaza Poughkeepsie\, NY 12601
UID:e.2770.10479257
SEQUENCE:3
DTSTAMP:20260425T131740Z
URL:https://business.dcrcoc.org/events/details/new-horizons-resources-15th-annual-fall-into-fashion-show-10479257
END:VEVENT

END:VCALENDAR
