BEGIN:VCALENDAR
VERSION:2.0
PRODID:-//ChamberMaster//Event Calendar 2.0//EN
METHOD:PUBLISH
X-PUBLISHED-TTL:P3D
REFRESH-INTERVAL:P3D
CALSCALE:GREGORIAN
BEGIN:VEVENT
DTSTART:20191017T213000Z
DTEND:20191018T011500Z
X-MICROSOFT-CDO-ALLDAYEVENT:FALSE
SUMMARY:New Horizons Resources 16th Annual Fall Into Fashion Show
DESCRIPTION:Join New Horizons Resources and local fashion stores as they present an evening of Fall and Winter fashions. Cocktails 5:30 PM Fashion Show 7:00 PM
X-ALT-DESC;FMTTYPE=text/html:Join New Horizons Resources and local fashion stores as they present an evening of Fall and Winter fashions. Cocktails 5:30 PM Fashion Show 7:00 PM
LOCATION:The Poughkeepsie Grand Hotel Regency Room 5:30-9:15
UID:e.2770.10479937
SEQUENCE:3
DTSTAMP:20260422T183227Z
URL:https://business.dcrcoc.org/events/details/new-horizons-resources-16th-annual-fall-into-fashion-show-10479937
END:VEVENT

END:VCALENDAR
