BEGIN:VCALENDAR
VERSION:2.0
PRODID:-//ChamberMaster//Event Calendar 2.0//EN
METHOD:PUBLISH
X-PUBLISHED-TTL:P3D
REFRESH-INTERVAL:P3D
CALSCALE:GREGORIAN
BEGIN:VEVENT
DTSTART:20181025T113000Z
DTEND:20181025T130000Z
X-MICROSOFT-CDO-ALLDAYEVENT:FALSE
SUMMARY:New Horizons Resources 2018 Community Leadership Breakfast
DESCRIPTION:The 23rd Annual Community Leadership Award Breakfast where New Horizons Resources honors people for their spirit\, dedication and leadership in fostering a better life for all residents of the Hudson Valley.
X-ALT-DESC;FMTTYPE=text/html:The 23rd Annual Community Leadership Award Breakfast where New Horizons Resources honors people for their spirit\, dedication and leadership in fostering a better life for all residents of the Hudson Valley.
LOCATION:The Poughkeepsie Grand Hotel 40 Civic Center Plaza Poughkeepsie\, NY 12601
UID:e.2770.10479289
SEQUENCE:3
DTSTAMP:20260425T131443Z
URL:https://business.dcrcoc.org/events/details/new-horizons-resources-2018-community-leadership-breakfast-10479289
END:VEVENT

END:VCALENDAR
