BEGIN:VCALENDAR
VERSION:2.0
PRODID:-//ChamberMaster//Event Calendar 2.0//EN
METHOD:PUBLISH
X-PUBLISHED-TTL:P3D
REFRESH-INTERVAL:P3D
CALSCALE:GREGORIAN
BEGIN:VEVENT
DTSTART:20191031T113000Z
DTEND:20191031T130000Z
X-MICROSOFT-CDO-ALLDAYEVENT:FALSE
SUMMARY:New Horizons Resources Community Leadership Breakfast
DESCRIPTION:New Horizons Resources 24th Annual Community Leadership Breakfast. The award is given annually to members of the community for their spirit\, dedication and leadership in fostering a better life for all residents of the Hudson Valley.
X-ALT-DESC;FMTTYPE=text/html:New Horizons Resources 24th Annual Community Leadership Breakfast. The award is given annually to members of the community for their spirit\, dedication and leadership in fostering a better life for all residents of the Hudson Valley.
LOCATION:The Poughkeepsie Grand Hotel
UID:e.2770.10479938
SEQUENCE:3
DTSTAMP:20260422T183011Z
URL:https://business.dcrcoc.org/events/details/new-horizons-resources-community-leadership-breakfast-10479938
END:VEVENT

END:VCALENDAR
