BEGIN:VCALENDAR
VERSION:2.0
PRODID:-//ChamberMaster//Event Calendar 2.0//EN
METHOD:PUBLISH
X-PUBLISHED-TTL:P3D
REFRESH-INTERVAL:P3D
CALSCALE:GREGORIAN
BEGIN:VEVENT
DTSTART:20181106T130000Z
DTEND:20181106T150000Z
X-MICROSOFT-CDO-ALLDAYEVENT:FALSE
SUMMARY:New State-Required Anti-Harassment Policies and Sexual Harassment Training Programs
DESCRIPTION:In this Breakfast Briefing\, we will discuss the impact of the recent amendments to New York State law concerning sexual harassment. We will cover the following questions on many employers' minds: What does the new law require employers to do and when? How will employers need to change their sexual harassment policies? What changes should employers anticipate in terms of litigation\, settlement agreements and employment agreements? How should employers address the new annual training requirements? What are the options and best practices? Draft guidance on the policy and interactive training required has been issued from the New York State Department of Labor and State Division of Human Rights\, with the expectation that there will be final regulations in advance of the October 9 effective date of the new training requirements. This program will explore the new requirements and mandates imposed by the State.
X-ALT-DESC;FMTTYPE=text/html:In this Breakfast Briefing\, we will discuss the impact of the recent amendments to New York State law concerning sexual harassment. We will cover the following questions on many employers&#39\; minds: What does the new law require employers to do and when? How will employers need to change their sexual harassment policies? What changes should employers anticipate in terms of litigation\, settlement agreements and employment agreements? How should employers address the new annual training requirements? What are the options and best practices? Draft guidance on the policy and interactive training required has been issued from the New York State Department of Labor and State Division of Human Rights\, with the expectation that there will be final regulations in advance of the October 9 effective date of the new training requirements. This program will explore the new requirements and mandates imposed by the State.
LOCATION:Villa Borghese 70 Widmer Road Wappingers Falls\, NY 12590
UID:e.2770.10479705
SEQUENCE:3
DTSTAMP:20260425T101904Z
URL:https://business.dcrcoc.org/events/details/new-state-required-anti-harassment-policies-and-sexual-harassment-training-programs-10479705
END:VEVENT

END:VCALENDAR
