BEGIN:VCALENDAR
VERSION:2.0
PRODID:-//ChamberMaster//Event Calendar 2.0//EN
METHOD:PUBLISH
X-PUBLISHED-TTL:P3D
REFRESH-INTERVAL:P3D
CALSCALE:GREGORIAN
BEGIN:VEVENT
DTSTART:20180101T000000Z
DTEND:20180101T060000Z
X-MICROSOFT-CDO-ALLDAYEVENT:FALSE
SUMMARY:New Year's Eve Celebration Dinner and Dance
DESCRIPTION:Ring in the New Year with us! Enjoy passed Hors d' oeuvres and Open Top Shelf Bar\, featuring Dinner and a Delicious Dessert Station with a Midnight Champagne Toast. For more information please visit us on our Facebook.
X-ALT-DESC;FMTTYPE=text/html:Ring in the New Year with us! Enjoy passed Hors d&#39\; oeuvres and Open Top Shelf Bar\, featuring Dinner and a Delicious Dessert Station with a Midnight Champagne Toast. For more information please visit us on our Facebook.
LOCATION:Mill Creek Caterers 17 Route 376 Hopewell Jct.\, NY 12533
UID:e.2770.10476544
SEQUENCE:3
DTSTAMP:20260425T232258Z
URL:https://business.dcrcoc.org/events/details/new-year-s-eve-celebration-dinner-and-dance-10476544
END:VEVENT

END:VCALENDAR
