BEGIN:VCALENDAR
VERSION:2.0
PRODID:-//ChamberMaster//Event Calendar 2.0//EN
METHOD:PUBLISH
X-PUBLISHED-TTL:P3D
REFRESH-INTERVAL:P3D
CALSCALE:GREGORIAN
BEGIN:VEVENT
DTSTART:20201113T133000Z
DTEND:20201113T150000Z
X-MICROSOFT-CDO-ALLDAYEVENT:FALSE
SUMMARY:New York Paid Sick Leave Mandate from a Legal and HR Perspective
DESCRIPTION:Panelists:\n\nEd Kowalski from Ethan Allen Workforce Solutions\n\nDavid Wise from Mackey\, Butts & Wise\n\n\n\nThis virtual event is open to the public and will be available to watch on Zoom.\n\n*Pre-registration is required\, as space is limited. \n\n\n\nTo Register\, Click Here\n\n\n\nThank you to our sponsors: RBT CPAs\, Riverside Bank a Division of Salisbury Bank and Trust Company and SDG Law
X-ALT-DESC;FMTTYPE=text/html:<span style="color:#000000\;"><span style="font-size:16px\;"><span style="font-family:times new roman\;"><strong>Panelists</strong>:<br />\nEd Kowalski from Ethan Allen Workforce Solutions<br />\nDavid Wise from Mackey\, Butts &amp\; Wise</span></span><br />\n<br />\n<span style="background-image: initial\; background-position: initial\; background-size: initial\; background-repeat: initial\; background-attachment: initial\; background-origin: initial\; background-clip: initial\; font-family: &quot\;times new roman&quot\;\; font-size: 18px\;">This virtual event is open to the public and will be available to watch on Zoom.</span><br style="color: rgb(0\, 0\, 0)\; font-family: &quot\;times new roman&quot\;\; font-size: 18px\;" />\n<span style="font-family: &quot\;times new roman&quot\;\; font-size: 18px\;"><span style="background-image: initial\; background-position: initial\; background-size: initial\; background-repeat: initial\; background-attachment: initial\; background-origin: initial\; background-clip: initial\;">*Pre-registration is required\, as space is limited.&nbsp\;</span></span></span><br />\n<br />\n<span style="color:#000000\;"><span style="font-size:16px\;"><span style="font-family:times new roman\;"><strong>To Register\, Click </strong></span></span></span><span style="font-size:16px\;"><span style="font-family:times new roman\;"><strong><a href="https://dcrcoc-org.zoom.us/webinar/register/WN_UDxTLnZ9Qxe2BsD9XZiNAw" target="_blank"><span style="color:#0000FF\;">Here</span></a></strong><br />\n<br />\n<span style="color:#000000\;"><strong style="color: rgb(0\, 0\, 0)\; font-family: &quot\;times new roman&quot\;\; font-size: 16px\;">Thank you to our sponsors: </strong></span><strong style="color: rgb(0\, 0\, 0)\; font-family: &quot\;times new roman&quot\;\; font-size: 16px\;"><a href="https://www.rbtcpas.com/" target="_blank"><span style="color:#0000FF\;">RBT CPAs</span></a></strong><span style="color:#000000\;"><strong style="color: rgb(0\, 0\, 0)\; font-family: &quot\;times new roman&quot\;\; font-size: 16px\;">\,&nbsp\;</strong></span><strong><a href="https://www.salisburybank.com/about/news/article/?news_cat=2018&amp\;news_article=riverside-bank-a-division-of-salisbury-bank-and-trust-company-" target="_blank"><span style="color:#0000FF\;">Riverside Bank a Division of Salisbury Bank and Trust Company</span></a><span style="color:#000000\;"> and&nbsp\;</span><span style="background:white\;"><span style="color:#333333\;"><a href="https://sdglaw.com/" target="_blank"><span style="color:blue\;">SDG Law</span></a></span></span></strong></span></span><br />\n<br />\n&nbsp\;
LOCATION:
UID:e.2770.10484505
SEQUENCE:3
DTSTAMP:20260421T210446Z
URL:https://business.dcrcoc.org/events/details/new-york-paid-sick-leave-mandate-from-a-legal-and-hr-perspective-10484505
END:VEVENT

END:VCALENDAR
