BEGIN:VCALENDAR
VERSION:2.0
PRODID:-//ChamberMaster//Event Calendar 2.0//EN
METHOD:PUBLISH
X-PUBLISHED-TTL:P3D
REFRESH-INTERVAL:P3D
CALSCALE:GREGORIAN
BEGIN:VEVENT
DTSTART:20180210T203000Z
DTEND:20180210T223000Z
X-MICROSOFT-CDO-ALLDAYEVENT:FALSE
SUMMARY:New York Rangers Alumni Charity Hockey Game
DESCRIPTION:McCann Ice Arena Saturday\, February 10\, 2018 3:30pm NY Rangers "Assist" supported by Chase Alumni Hockey Game! Mid-Hudson Civic Center will officially be hosting a New York Rangers Alumni "Assist" game at the McCann Ice Arena! Proceeds from the event will be benefit the Mid-Hudson Civic Center Inc. youth programs and help expand the offerings at each rink! Admission: $20 General Admission\, $50 Game Day Meet and Greet
X-ALT-DESC;FMTTYPE=text/html:McCann Ice Arena Saturday\, February 10\, 2018 3:30pm NY Rangers &quot\;Assist&quot\; supported by Chase Alumni Hockey Game! Mid-Hudson Civic Center will officially be hosting a New York Rangers Alumni &quot\;Assist&quot\; game at the McCann Ice Arena! Proceeds from the event will be benefit the Mid-Hudson Civic Center Inc. youth programs and help expand the offerings at each rink! Admission: $20 General Admission\, $50 Game Day Meet and Greet
LOCATION:McCann Ice Arena 14 Civic Center Plaza Poughkeepsie\, NY 12601
UID:e.2770.10476713
SEQUENCE:3
DTSTAMP:20260425T222614Z
URL:https://business.dcrcoc.org/events/details/new-york-rangers-alumni-charity-hockey-game-10476713
END:VEVENT

END:VCALENDAR
