BEGIN:VCALENDAR
VERSION:2.0
PRODID:-//ChamberMaster//Event Calendar 2.0//EN
METHOD:PUBLISH
X-PUBLISHED-TTL:P3D
REFRESH-INTERVAL:P3D
CALSCALE:GREGORIAN
BEGIN:VEVENT
DTSTART:20210625T150000Z
DTEND:20210625T160000Z
X-MICROSOFT-CDO-ALLDAYEVENT:FALSE
SUMMARY:New York State Small Business - Recovery Grant Information Webinar
DESCRIPTION:Presented by: Huey-Min Chuang\, Senior Director of Business and Economic Development - Empire State Development \n\n\n\nSponsored by: KeyBank and Stenger\, Diamond & Glass - SDG Law
X-ALT-DESC;FMTTYPE=text/html:<br />\n<span style="color:#000000\;"><span style="font-size:16px\;"><span style="font-family:times new roman\;">Presented by: Huey-Min Chuang\, Senior Director of Business and Economic Development - Empire State Development&nbsp\;<br />\n<br />\nSponsored by: </span></span></span><span style="font-size:16px\;"><span style="font-family:times new roman\;"><strong><a href="https://www.key.com/personal/index.jsp" target="_blank"><span style="color:#0000FF\;">KeyBank</span></a></strong></span></span><span style="color:#000000\;"><span style="font-size:16px\;"><span style="font-family:times new roman\;"> and </span></span></span><span style="font-size:16px\;"><span style="font-family:times new roman\;"><strong><a href="https://sdglaw.com/" target="_blank"><span style="color:#0000FF\;">Stenger\, Diamond &amp\; Glass - SDG Law</span></a></strong></span></span>
LOCATION:To Register\, Please Click Here *Complimentary on Zoom
UID:e.2770.10485240
SEQUENCE:3
DTSTAMP:20260421T095552Z
URL:https://business.dcrcoc.org/events/details/new-york-state-small-business-recovery-grant-information-webinar-10485240
END:VEVENT

END:VCALENDAR
