BEGIN:VCALENDAR
VERSION:2.0
PRODID:-//ChamberMaster//Event Calendar 2.0//EN
METHOD:PUBLISH
X-PUBLISHED-TTL:P3D
REFRESH-INTERVAL:P3D
CALSCALE:GREGORIAN
BEGIN:VEVENT
DTSTART:20180714T230000Z
DTEND:20180715T020000Z
X-MICROSOFT-CDO-ALLDAYEVENT:FALSE
SUMMARY:Night of Nights Rap Concert Featuring Lil' Durk
DESCRIPTION:Night of Nights featuring Lil Durk July 14\, 2018 7:00pm Are you ready to rock the valley?! The Night of Nights presented by GawdLife Entertainment\, Inc. is coming to the Mid-Hudson Civic Center to kick off your summer the right way! Come Party with FatBoy_sse\, while enjoying music from one of NY/NJ's hottest DJ's\, DJ Spin King. We will be headlined by one of Chicago's hottest artist\, Lil Durk! Tickets: VIP: $100\, includes vip seating and Meet and Greet with Lil Durk and FatBoy_sse\; $75\, VIP seating area\; $58\, Floor seating\; $35 $45\, General Admission
X-ALT-DESC;FMTTYPE=text/html:Night of Nights featuring Lil Durk July 14\, 2018 7:00pm Are you ready to rock the valley?! The Night of Nights presented by GawdLife Entertainment\, Inc. is coming to the Mid-Hudson Civic Center to kick off your summer the right way! Come Party with FatBoy_sse\, while enjoying music from one of NY/NJ&rsquo\;s hottest DJ&rsquo\;s\, DJ Spin King. We will be headlined by one of Chicago&rsquo\;s hottest artist\, Lil Durk! Tickets: VIP: $100\, includes vip seating and Meet and Greet with Lil Durk and FatBoy_sse\; $75\, VIP seating area\; $58\, Floor seating\; $35&ndash\;$45\, General Admission
LOCATION:Mid-Hudson Civic Center 14 Civic Center Plaza Poughkeepsie\, NY 12601
UID:e.2770.10477836
SEQUENCE:3
DTSTAMP:20260425T155236Z
URL:https://business.dcrcoc.org/events/details/night-of-nights-rap-concert-featuring-lil-durk-10477836
END:VEVENT

END:VCALENDAR
