BEGIN:VCALENDAR
VERSION:2.0
PRODID:-//ChamberMaster//Event Calendar 2.0//EN
METHOD:PUBLISH
X-PUBLISHED-TTL:P3D
REFRESH-INTERVAL:P3D
CALSCALE:GREGORIAN
BEGIN:VEVENT
DTSTART:20180708T003000Z
DTEND:20180708T033000Z
X-MICROSOFT-CDO-ALLDAYEVENT:FALSE
SUMMARY:Night Train Plays The Alley Kat!
DESCRIPTION:Check out the bluesy\, rock vibe of Night Train! The Alley Kat is serving cold drafts\, drink sepcials\, gourmet pizza\, delicious sandwiches & wraps\, tasty burgers & of course\, comfort apps. Come out and groove to some great classic rock & blues with Night Train at The Alley Kat!\nCheck out the event details on our Facebook page:\n\nNight Train plays The Alley Kat!
X-ALT-DESC;FMTTYPE=text/html:<p><span style="color:rgb(75\, 79\, 86)\; font-family:system-ui\,-apple-system\,blinkmacsystemfont\,.sfnstext-regular\,sans-serif\; font-size:14px">Check out the bluesy\, rock vibe of Night Train! The Alley Kat is serving cold drafts\, drink sepcials\, gourmet pizza\, delicious sandwiches &amp\; wraps\, tasty burgers &amp\; of course\, comfort apps. Come out and groove to some great classic rock &amp\; blues with Night Train at The Alley Kat!</span></p>\nCheck out the event details on our Facebook page:<br />\n<a href="https://www.facebook.com/events/246061555945806/">Night Train plays The Alley Kat!</a>\n\n<h1>&nbsp\;</h1>\n
LOCATION:The Alley Kat 1677 US 9 Wappingers Falls\, New York\, NY 12590
UID:e.2770.10479295
SEQUENCE:3
DTSTAMP:20260425T155051Z
URL:https://business.dcrcoc.org/events/details/night-train-plays-the-alley-kat-07-07-2018-10479295
END:VEVENT

END:VCALENDAR
