BEGIN:VCALENDAR
VERSION:2.0
PRODID:-//ChamberMaster//Event Calendar 2.0//EN
METHOD:PUBLISH
X-PUBLISHED-TTL:P3D
REFRESH-INTERVAL:P3D
CALSCALE:GREGORIAN
BEGIN:VEVENT
DTSTART:20210527T120000Z
DTEND:20210527T133000Z
X-MICROSOFT-CDO-ALLDAYEVENT:FALSE
SUMMARY:Non-Profit Seminar: Pivoting to Respond and Move Beyond the Pandemic
DESCRIPTION:The pandemic of 2020-2021 changed the environment for nonprofit organizations significantly.  However\, many best practices in areas such as fundraising and technology remain\, along with new ways of meeting the needs of stakeholders.  In this online seminar\, you will hear from experts about the fundamentals of running nonprofits as well as specifics of how to operate through and beyond the pandemic. \n\n\n\nPresented by: \n\n\n	Jennie Swantz   The Nonprofit Gardener\n	Paul Villanueva   Intelligent IT Designs\n	Linda Marston-Reid   Arts Mid-Hudson\n\n\n \n\n\n\n\nThank You To Our Sponsors: Ethan Allen HR Services and Ulster Savings Bank
X-ALT-DESC;FMTTYPE=text/html:<p style="margin: 12pt 0in 0.0001pt\;">&nbsp\;</p>\n\n<p style="margin: 0in 0in 0.0001pt\;"><span style="color:#000000\;"><span style="font-size:16px\;"><span style="font-family:times new roman\;">The pandemic of 2020-2021 changed the environment for nonprofit organizations significantly.&nbsp\; However\, many best practices in areas such as fundraising and technology remain\, along with new ways of meeting the needs of stakeholders.&nbsp\; In this online seminar\, you will hear from experts about the fundamentals of running nonprofits as well as specifics of how to operate through and beyond the pandemic.&nbsp\;<br />\n<br />\n<u>Presented by</u><strong>: </strong></span></span></span></p>\n\n<ul>\n	<li><span style="color:#000000\;"><span style="font-size:16px\;"><span style="font-family:times new roman\;">Jennie Swantz &ndash\; The Nonprofit Gardener</span></span></span></li>\n	<li><span style="color:#000000\;"><span style="font-size:16px\;"><span style="font-family:times new roman\;">Paul Villanueva &ndash\; <span style="border:none windowtext 1.0pt\;padding:0in\;">Intelligent IT Designs</span></span></span></span></li>\n	<li><span style="color:#000000\;"><span style="font-size:16px\;"><span style="font-family:times new roman\;">Linda Marston-Reid &ndash\; Arts Mid-Hudson</span></span></span></li>\n</ul>\n\n<p style="margin-top:0in\;margin-right:0in\;margin-bottom:12.0pt\;margin-left:\n0in">&nbsp\;</p>\n\n<p style="margin-top:0in\;margin-right:0in\;margin-bottom:12.0pt\;margin-left:\n0in"><span style="color:#000000\;"><span style="font-family:&quot\;Verdana&quot\;\,sans-serif"><o:p></o:p></span></span></p>\n<br />\n<span style="color:#000000\;"><span style="font-size:16px\;"><span style="font-family:times new roman\;">Thank You To Our Sponsors:</span></span></span><span style="font-size:16px\;"><span style="font-family:times new roman\;"> <strong><a href="https://eapeo.com/" target="_blank"><span style="color:#0000FF\;">Ethan Allen HR Services</span></a></strong> <span style="color:#000000\;">and&nbsp\;</span><strong><a href="https://www.ulstersavings.com/" target="_blank"><span style="color:#0000FF\;">Ulster Savings Bank</span></a></strong></span></span>
LOCATION:This is an online meeting for Chamber members. Registration is required in advance. To Register\, Please Click Here After registering\, you will receive a confirmation email containing information about joining the meeting. If you are not a Chamber member but interested in attending\, please contact Director of Events Chelsea Schwarze
UID:e.2770.10484516
SEQUENCE:3
DTSTAMP:20260421T113944Z
URL:https://business.dcrcoc.org/events/details/non-profit-seminar-pivoting-to-respond-and-move-beyond-the-pandemic-10484516
END:VEVENT

END:VCALENDAR
