BEGIN:VCALENDAR
VERSION:2.0
PRODID:-//ChamberMaster//Event Calendar 2.0//EN
METHOD:PUBLISH
X-PUBLISHED-TTL:P3D
REFRESH-INTERVAL:P3D
CALSCALE:GREGORIAN
BEGIN:VEVENT
DTSTART:20190515T130000Z
DTEND:20190515T150000Z
X-MICROSOFT-CDO-ALLDAYEVENT:FALSE
SUMMARY:Nonprofit Seminar: Build Your Financial Confidence
DESCRIPTION:Presented by the Nonprofit Committee\, speakers Cindy M. Smith of Cindy M. Smith\, CPA PC and John Pecchia\, Vice President for Business Affairs/CFO at Marist College will present a seminar focused on the following:\n\n\n	Understanding financial reporting\, income statements and balance sheets\n	Changes in audited financial statements coming to your nonprofit\n	The key financial responsibilities and reports such as P&L's\, budgets and 990 filings that can help you contribute to and understand your nonprofit in a more significant way using example reports\n	The specific fiduciary role of Board members along with a financial education relevant to everyone who touches nonprofits (Staff\, Volunteers\, Board Members\, donors )\n\nSponsored by: Ulster Savings Bank
X-ALT-DESC;FMTTYPE=text/html:<p class="BodyA"><span style="font-size:14px\;"><span style="font-family:arial\;">Presented by the Nonprofit Committee\, speakers Cindy M. Smith of <a href="http://www.csmithcpa.com" target="_blank">Cindy M. Smith\, CPA PC</a> and John Pecchia\, Vice President for Business Affairs/CFO at <a href="https://www.marist.edu" target="_blank">Marist College</a> will present a&nbsp\;seminar focused on the following:</span></span></p>\n\n<ul>\n	<li class="yiv6795010040ydpc4df2275msolistparagraph" style="margin-right: 0in\; margin-left: 0.25in\; font-size: medium\; font-family: &quot\;Times New Roman&quot\;\, serif\; caret-color: rgb(0\, 0\, 0)\; color: rgb(0\, 0\, 0)\;"><span style="font-size:14px\;"><span style="font-family:arial\;">Understanding financial reporting\, income statements and balance sheets</span></span></li>\n	<li class="yiv6795010040ydpc4df2275msolistparagraph" style="margin-right: 0in\; margin-left: 0.25in\; font-size: medium\; font-family: &quot\;Times New Roman&quot\;\, serif\; caret-color: rgb(0\, 0\, 0)\; color: rgb(0\, 0\, 0)\;"><span style="font-family: &quot\;New serif&quot\;\, serif\;"><o:p><span style="font-family: &quot\;New serif&quot\;\, serif\;"><o:p><span style="font-size:14px\;"><span style="font-family:arial\;">Changes in<span class="apple-converted-space">&nbsp\;</span>audited<span class="apple-converted-space">&nbsp\;</span>financial statements coming to your nonprofit</span></span></o:p></span></o:p></span></li>\n	<li class="yiv6795010040ydpc4df2275msolistparagraph" style="margin-right: 0in\; margin-left: 0.25in\; font-size: medium\; font-family: &quot\;Times New Roman&quot\;\, serif\; caret-color: rgb(0\, 0\, 0)\; color: rgb(0\, 0\, 0)\;"><span style="font-family: &quot\;New serif&quot\;\, serif\;"><o:p><span style="font-family: &quot\;New serif&quot\;\, serif\;"><o:p><span style="font-family: &quot\;New serif&quot\;\, serif\;"><o:p><span style="font-family: &quot\;New serif&quot\;\, serif\;"><o:p><span style="font-size:14px\;"><span style="font-family:arial\;">The key financial responsibilities and reports such as P&amp\;L&rsquo\;s\,<span class="apple-converted-space">&nbsp\;</span><u>budgets</u><span class="apple-converted-space"><u>&nbsp\;</u></span>and 990 filings that can help you contribute to and understand your nonprofit in a more significant way using example reports</span></span><span style="font-family: &quot\;New serif&quot\;\, serif\;"><o:p></o:p></span></o:p></span></o:p></span></o:p></span></o:p></span></li>\n	<li class="yiv6795010040ydpc4df2275msolistparagraph" style="margin-right: 0in\; margin-left: 0.25in\; font-size: medium\; font-family: &quot\;Times New Roman&quot\;\, serif\; caret-color: rgb(0\, 0\, 0)\; color: rgb(0\, 0\, 0)\;"><span style="font-family: &quot\;New serif&quot\;\, serif\;"><o:p><span style="font-family: &quot\;New serif&quot\;\, serif\;"><o:p><span style="font-family: &quot\;New serif&quot\;\, serif\;"><o:p><span style="font-family: &quot\;New serif&quot\;\, serif\;"><o:p><span style="font-family: &quot\;New serif&quot\;\, serif\;"><o:p><span style="font-size:14px\;"><span style="font-family:arial\;"><span style="line-height: 22.82666778564453px\;"><span style="line-height: 22.82666778564453px\;">The specific fiduciary role of Board members along with a financial education relevant to everyone who touches nonprofits (Staff\, Volunteers\, Board Members\, donors&hellip\;</span></span></span></span></o:p></span></o:p></span></o:p></span></o:p></span></o:p></span><span style="font-family: &quot\;New serif&quot\;\, serif\; color: rgb(29\, 34\, 40)\;"><o:p><span style="font-family: &quot\;New serif&quot\;\, serif\; color: rgb(29\, 34\, 40)\;"><o:p><span style="font-family: &quot\;New serif&quot\;\, serif\; color: rgb(29\, 34\, 40)\;"><o:p><span style="font-family: &quot\;New serif&quot\;\, serif\; color: rgb(29\, 34\, 40)\;"><o:p><span style="font-family: &quot\;New serif&quot\;\, serif\; color: rgb(29\, 34\, 40)\;"><o:p><span style="font-size:14px\;"><span style="font-family:arial\;"><span style="line-height: 22.82666778564453px\;"><span style="line-height: 22.82666778564453px\; color: rgb(29\, 34\, 40)\;">)</span></span></span></span></o:p></span></o:p></span></o:p></span></o:p></span></o:p></span></li>\n</ul>\n<span style="font-size:14px\;"><span style="font-family:arial\;"><strong>Sponsored by: <a href="https://www.ulstersavings.com/home/home" target="_blank">Ulster Savings Bank</a></strong></span></span>
LOCATION:The Poughkeepsie Grand Hotel & Conference Center 40 Civic Center Plaza Poughkeepsie\, NY 12601
UID:e.2770.10479908
SEQUENCE:3
DTSTAMP:20260423T045608Z
URL:https://business.dcrcoc.org/events/details/nonprofit-seminar-build-your-financial-confidence-10479908
END:VEVENT

END:VCALENDAR
