BEGIN:VCALENDAR
VERSION:2.0
PRODID:-//ChamberMaster//Event Calendar 2.0//EN
METHOD:PUBLISH
X-PUBLISHED-TTL:P3D
REFRESH-INTERVAL:P3D
CALSCALE:GREGORIAN
BEGIN:VEVENT
DTSTART:20181114T140000Z
DTEND:20181114T160000Z
X-MICROSOFT-CDO-ALLDAYEVENT:FALSE
SUMMARY:Nonprofit Seminar - Communications Strategy & Creating an Effective Brand
DESCRIPTION:***Please note if you try to register after 4:30 PM on Tuesday\, November 13th you will NOT be on our registration list. Please report to the Check-InTable when you arrive.\n\n\n\nIn today's crowded\, noisy marketplace\, your nonprofit has to stand out with a clear\, consistent message in every outgoing communication if you want to resonate with your audience. \n\nThat takes strategy\, careful planning\, and knowing the key elements that make up a messaging platform.\n\n Attendees will come away with the following:\n\n\n\nLearn the elements of a successful communications strategy for your organization so that you can engage your audience in ways that resonate with them.\n\n\n\nLeave with an understanding of the key components of an effective strategy.\n\n\n\nLeave with the details you need to create an in-house campaign.\n\n\n\nAs well as what questions to ask when you engage help from outside your organization.\n\nAbout our Presenter:\n\nDean Temple is a founder of the Drake Creative Collaborative and an award-winning storyteller and writer. His clients have ranged from Fortune 50 corporations and international nonprofits and universities to regional Hudson Valley nonprofits and businesses. He is currently president of the board of directors of The Art Effect.\nSponsored by: Greystone Programs\, Inc.\, and Thrivent Financial
X-ALT-DESC;FMTTYPE=text/html:<p class="BodyA"><br />\n<span style="background-color: transparent\; color: rgb(255\, 0\, 0)\; font-family: sans-serif\,Arial\,Verdana\,&amp\;quot\;Trebuchet MS&amp\;quot\;\; font-size: 18px\; font-style: normal\; font-variant: normal\; font-weight: 400\; letter-spacing: normal\; orphans: 2\; text-align: left\; text-decoration: none\; text-indent: 0px\; text-transform: none\; -webkit-text-stroke-width: 0px\; white-space: normal\; word-spacing: 0px\;"><span style="font-family: times new roman\;"><strong>***<span style="background-attachment: scroll\; background-clip: border-box\; background-color: rgb(255\, 255\, 255)\; background-image: none\; background-origin: padding-box\; background-position-x: 0%\; background-position-y: 0%\; background-repeat: repeat\; background-size: auto\;">Please note if&nbsp\;you try to register after 4:30 PM on Tuesday\, November 13th&nbsp\;you will NOT be on our registration list. Please report to the Check-InTable when you arrive.</span></strong></span></span><br />\n<br />\n<span style="font-size:16px\;"><span style="font-family: &quot\;Avenir Book&quot\;\;">In today&rsquo\;s crowded\, noisy marketplace\, your nonprofit has to stand out with a clear\, consistent message in every outgoing communication if you want to resonate with your audience.&nbsp\;</span></span><o:p></o:p></p>\n\n<p class="BodyA"><span style="font-size:16px\;"><span style="font-family: &quot\;Avenir Book&quot\;\;">That takes strategy\, careful planning\, and knowing the key elements that make up a messaging platform.</span></span><o:p></o:p></p>\n\n<p class="BodyA"><span style="font-size:16px\;"><span style="font-family: &quot\;Avenir Book&quot\;\;">&nbsp\;</span></span><o:p></o:p><span style="font-size:16px\;"><b><span style="font-family: &quot\;Avenir Book&quot\;\;">Attendees will come away with the following:</span></b><br />\n<br />\n<span style="font-family: &quot\;Avenir Book&quot\;\;">Learn the elements of a successful communications strategy for your organization so that you can engage your audience in ways that resonate with them.</span><br />\n<br />\n<span style="font-family: &quot\;Avenir Book&quot\;\;">Leave with an understanding of the key components of an effective strategy.</span></span><o:p></o:p><br />\n<br />\n<span style="font-size:16px\;"><span style="font-family: &quot\;Avenir Book&quot\;\;">Leave with the details you need to create an in-house campaign.</span></span><o:p></o:p><br />\n<br />\n<span style="font-size:16px\;"><span style="font-family: &quot\;Avenir Book&quot\;\;">As well as what questions to ask when you engage help from outside your organization.</span></span></p>\n\n<p class="BodyA"><span style="font-size:16px\;"><b><span style="font-family: &quot\;Avenir Book&quot\;\;">About our Presenter:</span></b></span><o:p></o:p></p>\n\n<p class="BodyA"><span style="font-size:16px\;"><span style="font-family: &quot\;Avenir Book&quot\;\;">Dean Temple is a founder of the Drake Creative Collaborative and an award-winning storyteller and writer. His clients have ranged from Fortune 50 corporations and&nbsp\;</span></span><o:p></o:p><span style="font-size:16px\;"><span style="font-family: &quot\;Avenir Book&quot\;\;">international nonprofits and universities to regional Hudson Valley nonprofits and businesses. He is currently president of the board of directors of The Art Effect.</span></span></p>\n<span style="font-size:18px\;"><strong>Sponsored by: <a href="http://greystoneprograms.org/" target="_blank"><span style="color:#0000FF\;">Greystone Programs\, Inc</span></a>.<span style="color:#000000\;">\,</span>&nbsp\;<span style="color:#000000\;">and</span>&nbsp\;<a href="http://connect.thrivent.com/steven-jones/" target="_blank"><span style="color:#0000FF\;">Thrivent Financial</span></a></strong></span>
LOCATION:The Poughkeepsie Grand Hotel & Conference Center 40 Civic Center Plaza Poughkeepsie\, NY 12601
UID:e.2770.10476521
SEQUENCE:3
DTSTAMP:20260425T101841Z
URL:https://business.dcrcoc.org/events/details/nonprofit-seminar-communications-strategy-creating-an-effective-brand-10476521
END:VEVENT

END:VCALENDAR
