BEGIN:VCALENDAR
VERSION:2.0
PRODID:-//ChamberMaster//Event Calendar 2.0//EN
METHOD:PUBLISH
X-PUBLISHED-TTL:P3D
REFRESH-INTERVAL:P3D
CALSCALE:GREGORIAN
BEGIN:VEVENT
DTSTART:20180118T140000Z
DTEND:20180118T160000Z
X-MICROSOFT-CDO-ALLDAYEVENT:FALSE
SUMMARY:Nonprofit Seminar: Keeping Your Key People
DESCRIPTION:*** Please note that we have rescheduled this event for Thursday January 18th. If you register after 4:00 p.m. on Wednesday January 17th you will NOT be on our registration list. Please have your registration confirmation ready at the check-in table.\n\n\n\nWhen it comes to the nonprofit world\, the delivery of a mission statement is only as strong as the team standing behind it.  From employees to board members and all of the volunteers in between\, how do we engage\, motivate and retain when money is not the most important factor?\n\n\n\n"Keeping Your Key People" will be an interactive workshop presented by Kate Rabe of Kate Rabe Consulting and will focus on the importance of communication\, company culture\, and employee motivation for all levels of nonprofit organizations.\nSponsored by: Cindy M. Smith\, CPA PC and Thrivent Financial\n\n\n\np.p1 {margin: 0.0px 0.0px 0.0px 0.0px\; font: 15.0px Calibri}
X-ALT-DESC;FMTTYPE=text/html:<p><span style="font-size: 16px\;"><strong><font face="Calibri"><font color="#000000">*** Please note that we have rescheduled this event for Thursday January 18th. If you register after 4:00 p.m. on Wednesday January 17<sup>th</sup></font><font color="#000000"> you will NOT be on our registration list. Please have your registration confirmation ready at the check-in table.</font></font></strong></span><br />\n<br />\n<span style="font-size: 14px\;"><span style="font-family: arial\;">When it comes to the nonprofit world\, the delivery of a mission statement is only as strong as the team standing&nbsp\;behind it. &nbsp\;From employees to board members and all of the volunteers in between\, how do we engage\, motivate and retain when money is not the most important factor?<br />\n<br />\n&quot\;Keeping Your Key People&quot\; will be an interactive workshop&nbsp\;presented by Kate Rabe of Kate Rabe Consulting and&nbsp\;will focus on the importance of communication\, company culture\, and employee motivation for all levels of nonprofit&nbsp\;organizations.</span></span></p>\n<span style="font-size: 14px\;"><span style="font-family: arial\;">Sponsored by:&nbsp\;<a href="http://www.csmithcpa.com" target="_blank" trebuchet="">Cindy M. Smith\, CPA PC</a>&nbsp\;and&nbsp\;<a href="https://www.thrivent.com" target="_blank" trebuchet="">Thrivent Financial</a></span></span><br />\n<br />\n<style type="text/css">p.p1 {margin: 0.0px 0.0px 0.0px 0.0px\; font: 15.0px Calibri}\n</style>\n
LOCATION:The Poughkeepsie Grand Hotel & Conference Center 40 Civic Center Plaza Poughkeepsie\, NY 12601
UID:e.2770.10476392
SEQUENCE:3
DTSTAMP:20260425T232308Z
URL:https://business.dcrcoc.org/events/details/nonprofit-seminar-keeping-your-key-people-10476392
END:VEVENT

END:VCALENDAR
