BEGIN:VCALENDAR
VERSION:2.0
PRODID:-//ChamberMaster//Event Calendar 2.0//EN
METHOD:PUBLISH
X-PUBLISHED-TTL:P3D
REFRESH-INTERVAL:P3D
CALSCALE:GREGORIAN
BEGIN:VEVENT
DTSTART:20200520T130000Z
DTEND:20200520T150000Z
X-MICROSOFT-CDO-ALLDAYEVENT:FALSE
SUMMARY:Nonprofit Seminar - POSTPONED***
DESCRIPTION:Sponsored by: Ulster Savings Bank
X-ALT-DESC;FMTTYPE=text/html:<p class="BodyA"><span style="font-size:16px\;"><span style="font-family:tahoma\;">Sponsored by:</span></span><strong><span style="font-size:16px\;"><span style="font-family:tahoma\;"> <a href="https://www.ulstersavings.com/"><span style="color:#0000FF\;">Ulster Savings Bank</span></a></span></span></strong></p>\n
LOCATION:The Poughkeepsie Grand Hotel & Conference Center 40 Civic Center Plaza Poughkeepsie\, NY 12601
UID:e.2770.10481445
SEQUENCE:3
DTSTAMP:20260422T063739Z
URL:https://business.dcrcoc.org/events/details/nonprofit-seminar-postponed-10481445
END:VEVENT

END:VCALENDAR
