BEGIN:VCALENDAR
VERSION:2.0
PRODID:-//ChamberMaster//Event Calendar 2.0//EN
METHOD:PUBLISH
X-PUBLISHED-TTL:P3D
REFRESH-INTERVAL:P3D
CALSCALE:GREGORIAN
BEGIN:VEVENT
DTSTART:20190604T120000Z
DTEND:20190604T171500Z
X-MICROSOFT-CDO-ALLDAYEVENT:FALSE
SUMMARY:Nonprofit Training: Nonprofit Leaders United for Impact
DESCRIPTION:The training\, Nonprofit Profit Leaders United For Impact\, features three engaging workshops presented by experts in their fields. The workshops focus on Diversity & Inclusion\; Social Determinants of Health\; and Volunteer Management. There will be time for networking\, so please feel free to bring your business cards and handouts to share! To learn more and to register for the event visit www.uwdor.org/register-june4
X-ALT-DESC;FMTTYPE=text/html:The training\, Nonprofit Profit Leaders United For Impact\, features three engaging workshops presented by experts in their fields. The workshops focus on Diversity &amp\; Inclusion\; Social Determinants of Health\; and Volunteer Management. There will be time for networking\, so please feel free to bring your business cards and handouts to share! To learn more and to register for the event visit www.uwdor.org/register-june4
LOCATION:Dutchess Community College - Dutchess Hall\, Room 101
UID:e.2770.10480723
SEQUENCE:3
DTSTAMP:20260423T025335Z
URL:https://business.dcrcoc.org/events/details/nonprofit-training-nonprofit-leaders-united-for-impact-10480723
END:VEVENT

END:VCALENDAR
