BEGIN:VCALENDAR
VERSION:2.0
PRODID:-//ChamberMaster//Event Calendar 2.0//EN
METHOD:PUBLISH
X-PUBLISHED-TTL:P3D
REFRESH-INTERVAL:P3D
CALSCALE:GREGORIAN
BEGIN:VEVENT
DTSTART:20180616T233000Z
DTEND:20180617T020000Z
X-MICROSOFT-CDO-ALLDAYEVENT:FALSE
SUMMARY:Northern Dutchess Symphony Orchestra concert: A Tribute to John Williams
DESCRIPTION:SATURDAY\, JUNE 16\, 2018 AT 7:30 PM\n\nRhinebeck High School\n\n\n\nNDSO pays tribute to American composer John Williams with popular scores from Star Wars\, Jaws\, Harry Potter and Catch Me If You Can. Christopher Brellochs will solo on saxophone.  Ndsorchestra.org for tickets and more information
X-ALT-DESC;FMTTYPE=text/html:<div style="text-align:center"><strong>SATURDAY\, JUNE 16\, 2018 AT 7:30 PM<br />\nRhinebeck High School</strong><br />\n<br />\nNDSO pays tribute to American composer John Williams with popular scores from&nbsp\;<em>Star Wars</em>\,&nbsp\;<em>Jaws</em>\,&nbsp\;<em>Harry Potter</em>&nbsp\;and&nbsp\;<em>Catch Me If You Can</em>. Christopher Brellochs will solo on saxophone.&nbsp\; Ndsorchestra.org for tickets and more information</div>\n
LOCATION:Rhinebeck High School Rhinebeck\, NY
UID:e.2770.10477693
SEQUENCE:3
DTSTAMP:20260425T182623Z
URL:https://business.dcrcoc.org/events/details/northern-dutchess-symphony-orchestra-concert-a-tribute-to-john-williams-10477693
END:VEVENT

END:VCALENDAR
