BEGIN:VCALENDAR
VERSION:2.0
PRODID:-//ChamberMaster//Event Calendar 2.0//EN
METHOD:PUBLISH
X-PUBLISHED-TTL:P3D
REFRESH-INTERVAL:P3D
CALSCALE:GREGORIAN
BEGIN:VEVENT
DTSTART:20181019T223000Z
DTEND:20181020T003000Z
X-MICROSOFT-CDO-ALLDAYEVENT:FALSE
SUMMARY:Northern Medical Group's 2nd Annual Gluten-Free Halloween Party
DESCRIPTION:The Hudson Valley Celiac Support Group invties you to this 2nd Annual event! Fun for the whole family! Little Critters welcome! Enjoy gluten-free goodies of all kinds\, refreshments\, dessert\, cider\, candy music\, games\, crafts and prizes!
X-ALT-DESC;FMTTYPE=text/html:The Hudson Valley Celiac Support Group invties you to this 2nd Annual event! Fun for the whole family! Little Critters welcome! Enjoy gluten-free goodies of all kinds\, refreshments\, dessert\, cider\, candy music\, games\, crafts and prizes!
LOCATION:Northern Medical Group 159 Barnegat Rd Poughkeepsie\, NY 12601
UID:e.2770.10479718
SEQUENCE:3
DTSTAMP:20260425T115435Z
URL:https://business.dcrcoc.org/events/details/northern-medical-group-s-2nd-annual-gluten-free-halloween-party-10479718
END:VEVENT

END:VCALENDAR
