BEGIN:VCALENDAR
VERSION:2.0
PRODID:-//ChamberMaster//Event Calendar 2.0//EN
METHOD:PUBLISH
X-PUBLISHED-TTL:P3D
REFRESH-INTERVAL:P3D
CALSCALE:GREGORIAN
BEGIN:VEVENT
DTSTART:20191120T123000Z
DTEND:20191120T140000Z
X-MICROSOFT-CDO-ALLDAYEVENT:FALSE
SUMMARY:November Contact Breakfast
DESCRIPTION:***Please note if you try to register after 5:00 PM on Tuesday\, November 19th you will NOT be on our registration list. Please report to the UNPAID Table when you arrive. \n\n\n\nMonthly Contact Breakfast featuring a presentation with updates on development projects in the City of Poughkeepsie from Poughkeepsie Economic Development Director Paul Calogerakis and Community Development Coordinator Paul Hesse.\n\n\n\nAs you all know\, there are many people in need of our assistance. The Chamber's Ambassador committee has partnered with our Workforce Development Center to collect canned and dry goods at our Contact Breakfast. Your donations are greatly appreciated.\n\n\n\nSponsored by: D'Arcangelo & Co.\, LLP\n\nNonprofit: Hudson River Housing & Community Family Development\, Inc.
X-ALT-DESC;FMTTYPE=text/html:<p><br />\n<span style="font-size:18px\;"><span style="font-family:times new roman\;"><strong><span style="color:red\;">***Please note if&nbsp\;you try to register after 5:00 PM on Tuesday\,&nbsp\;November 19th&nbsp\;you will NOT be on our registration list. Please report to the UNPAID Table when you arrive. </span></strong></span></span><br />\n<br />\nMonthly Contact Breakfast&nbsp\;featuring a presentation with updates on development projects in the City of Poughkeepsie from&nbsp\;Poughkeepsie&nbsp\;Economic Development Director&nbsp\;Paul Calogerakis and Community Development Coordinator Paul Hesse.<br />\n<br />\n<span style="font-size: 14px\;"><span style="font-family: arial\;"><strong style="color: rgb(51\, 51\, 51)\; font-family: sans-serif\, Arial\, Verdana\,\;" trebuchet="">As you all know\, there are many people in need of our assistance. The Chamber&#39\;s Ambassador committee has partnered with our Workforce Development Center to collect canned and dry goods at our Contact Breakfast. Your donations are greatly appreciated.</strong><br />\n<br />\n<strong style="color: rgb(51\, 51\, 51)\; font-family: sans-serif\, Arial\, Verdana\,\;" trebuchet="">Sponsored by: <a href="https://www.darcangelo.com/" target="_blank"><span style="color: rgb(0\, 0\, 255)\;">D&#39\;Arcangelo &amp\; Co.\, LLP</span></a><br />\nNonprofit:&nbsp\;<em>Hudson River Housing</em> &amp\; <em>Community Family Development\, Inc.</em></strong></span></span></p>\n
LOCATION:The Poughkeepsie Grand Hotel & Conference Center 40 Civic Center Plaza Poughkeepsie\, NY 12601
UID:e.2770.10479901
SEQUENCE:3
DTSTAMP:20260422T172240Z
URL:https://business.dcrcoc.org/events/details/november-contact-breakfast-10479901
END:VEVENT

END:VCALENDAR
