BEGIN:VCALENDAR
VERSION:2.0
PRODID:-//ChamberMaster//Event Calendar 2.0//EN
METHOD:PUBLISH
X-PUBLISHED-TTL:P3D
REFRESH-INTERVAL:P3D
CALSCALE:GREGORIAN
BEGIN:VEVENT
DTSTART:20201118T123000Z
DTEND:20201118T140000Z
X-MICROSOFT-CDO-ALLDAYEVENT:FALSE
SUMMARY:November Contact Breakfast
DESCRIPTION:Monthly Contact Breakfast\, featuring a special presentation from EJ McMahon\, Senior Fellow at The Empire Center for Public Policy. McMahon will discuss what's happening economically in New York on the heels of the 2020 election. The Empire Center for Public Policy is an independent\, non-partisan\, non-profit think tank based in Albany. It's mission is to "make New York a better place to live and work by promoting public policy reforms grounded in free-market principles\, personal responsibility\, and the ideals of effective and accountable government."\n\n\n\nTo Register\, Please Click Here\n\n\n\nSponsored By: TEG Federal Credit Union
X-ALT-DESC;FMTTYPE=text/html:<p><span style="font-family:times new roman\;"><span style="color:#000000\;">&nbsp\;</span><br />\n<span style="font-size:16px\;"><span style="color:#000000\;">Monthly Contact Breakfast\, featuring a special presentation from EJ McMahon\, Senior Fellow at </span><strong><a href="https://www.empirecenter.org/" target="_blank"><span style="color:#0000FF\;">The Empire Center for Public Policy</span></a></strong><span style="color:#000000\;">. McMahon will discuss what&rsquo\;s happening economically in New York on the heels of the 2020 election. The Empire Center for Public Policy is an independent\, non-partisan\, non-profit think tank based in Albany. It&rsquo\;s mission is to &ldquo\;make New York a better place to live and work by promoting public policy reforms grounded in free-market principles\, personal responsibility\, and the ideals of effective and accountable government.&rdquo\;</span><br />\n<br />\n<span style="font-size:18px\;"><span style="color:#000000\;">To Register\, Please Click</span> <strong><a href="https://dcrcoc-org.zoom.us/webinar/register/WN_dYqpj5BeS7WcDUsSBvFcmg" target="_blank"><span style="color:#0000FF\;">Here</span></a></strong></span></span><br />\n<br />\n<span style="font-size:16px\;"><strong><span style="color:#000000\;">Sponsored By:</span></strong> <strong><a href="https://www.tegfcu.com/" target="_blank"><span style="color:#0000FF\;">TEG Federal Credit Union</span></a></strong></span></span></p>\n
LOCATION:Zoom
UID:e.2770.10482547
SEQUENCE:3
DTSTAMP:20260421T210019Z
URL:https://business.dcrcoc.org/events/details/november-contact-breakfast-10482547
END:VEVENT

END:VCALENDAR
