BEGIN:VCALENDAR
VERSION:2.0
PRODID:-//ChamberMaster//Event Calendar 2.0//EN
METHOD:PUBLISH
X-PUBLISHED-TTL:P3D
REFRESH-INTERVAL:P3D
CALSCALE:GREGORIAN
BEGIN:VEVENT
DTSTART:20180830T223000Z
DTEND:20180830T231500Z
X-MICROSOFT-CDO-ALLDAYEVENT:FALSE
SUMMARY:Nutrition Seminar
DESCRIPTION:Bolster your nutrition know-how and we will provide you simple ways to: Improve Your Diet Boost Energy Levels Improve Athletic Performance & Recovery Enhance with Supplementation
X-ALT-DESC;FMTTYPE=text/html:Bolster your nutrition know-how and we will provide you simple ways to: Improve Your Diet Boost Energy Levels Improve Athletic Performance &amp\; Recovery Enhance with Supplementation
LOCATION:Fitness Fusion of the Hudson Valley 21 Glenn Pond Drive Red Hook NY12571
UID:e.2770.10479452
SEQUENCE:3
DTSTAMP:20260425T154908Z
URL:https://business.dcrcoc.org/events/details/nutrition-seminar-10479452
END:VEVENT

END:VCALENDAR
