BEGIN:VCALENDAR
VERSION:2.0
PRODID:-//ChamberMaster//Event Calendar 2.0//EN
METHOD:PUBLISH
X-PUBLISHED-TTL:P3D
REFRESH-INTERVAL:P3D
CALSCALE:GREGORIAN
BEGIN:VEVENT
DTSTART:20171018T113000Z
DTEND:20171018T130000Z
X-MICROSOFT-CDO-ALLDAYEVENT:FALSE
SUMMARY:October Contact Breakfast
DESCRIPTION:Monthly contact breakfast featuring a candidate forum between the candidates for Town of Poughkeepsie Supervisor Jon J. Baisley and Michael Treybich.\n\nRecognizing the Membership Ambassadors.\n\n\n\nSponsored by D'Arcangelo & Co.\n\n\n\nNonprofit: Astor Services for Children & Families\, Dutchess Day School and Hudson Valley Community Services
X-ALT-DESC;FMTTYPE=text/html:<div data-block="true" data-editor="7kkcr" data-offset-key="ap2ub-0-0">\n<div data-offset-key="ap2ub-0-0">\n<p><span style="font-size:14px\;">Monthly contact breakfast featuring a candidate forum between the candidates for Town of Poughkeepsie Supervisor Jon J. Baisley and Michael Treybich.</span></p>\n\n<p><span style="font-size:14px\;">Recognizing the Membership Ambassadors.<br />\n<br />\nSponsored by <a href="http://www.darcangelo.com/" target="_blank">D&#39\;Arcangelo &amp\; Co.</a></span></p>\n</div>\n</div>\n\n<p><span style="font-size:14px\;">Nonprofit:&nbsp\;<a href="https://www.astorservices.org/">Astor Services for Children &amp\; Families</a>\,&nbsp\;</span><span style="font-size:14px\;"><a href="http://www.dutchessday.org/" target="_blank">Dutchess Day School</a> and <a href="http://www.hudsonvalleycs.org/" target="_blank">Hudson Valley Community Services</a></span></p>\n
LOCATION:The Poughkeepsie Grand Hotel & Conference Center 40 Civic Center Plaza\, Poughkeepsie\, NY 12601
UID:e.2770.10474019
SEQUENCE:3
DTSTAMP:20260426T033146Z
URL:https://business.dcrcoc.org/events/details/october-contact-breakfast-10474019
END:VEVENT

END:VCALENDAR
