BEGIN:VCALENDAR
VERSION:2.0
PRODID:-//ChamberMaster//Event Calendar 2.0//EN
METHOD:PUBLISH
X-PUBLISHED-TTL:P3D
REFRESH-INTERVAL:P3D
CALSCALE:GREGORIAN
BEGIN:VEVENT
DTSTART:20181017T113000Z
DTEND:20181017T130000Z
X-MICROSOFT-CDO-ALLDAYEVENT:FALSE
SUMMARY:October Contact Breakfast
DESCRIPTION:***Please note if you try to register after 5:00 PM on Tuesday\, October 16th you will NOT be on our registration list. Please report to the UNPAID Table when you arrive.\n\n\n\nAll guests must be seated by 7:40 AM. A plated breakfast will be provided.\n\n\n\nMonthly contact breakfast featuring a candidate forum between New York District 19 Representative\, John Faso and challenger Antonio Delgado.\n\n\n\nAs you all know\, there are many people in need of our assistance. The Chamber's Ambassador committee has partnered with our Workforce Development Center to collect canned and dry goods at our Contact Breakfast. Your donations are greatly appreciated.\n\n\n\nPlease send questions for the candidates in advance for consideration to richk@dcrcoc.org.\n\n\n\nSponsored by: Hudson Valley Federal Credit Union\n\n\n\nNonprofits: Astor Services for Children & Families\, Hudson Valley Community Services\, and Animal Farm Foundation\, Inc.
X-ALT-DESC;FMTTYPE=text/html:<p><span style="color:#FF0000\;"><span style="font-size:18px\;"><span style="font-family:times new roman\;"><strong>***<span style="background:white\;">Please note if&nbsp\;you try to register after 5:00 PM on Tuesday\,&nbsp\;October 16th&nbsp\;you will NOT be on our registration list. Please report to the UNPAID Table when you arrive.</span></strong></span></span><br />\n<br />\n<strong><span style="font-family:times new roman\,serif\;"><span style="font-size:12.0pt\;">All guests must be seated by 7:40 AM. A plated breakfast will be provided.</span></span></strong></span><br />\n<br />\n<span style="font-size: 14px\;"><span style="font-family: arial\;">Monthly contact breakfast featuring a candidate forum between&nbsp\;New York District 19&nbsp\;</span></span>Representative<span style="font-size: 14px\;"><span style="font-family: arial\;">\, John Faso and challenger Antonio Delgado.<br />\n<br />\n<strong style="color: rgb(51\, 51\, 51)\; font-family: sans-serif\, Arial\, Verdana\, &quot\;Trebuchet MS&quot\;\; font-size: 13px\; background-color: rgb(255\, 255\, 255)\;">As you all know\, there are many people in need of our assistance. The Chamber&#39\;s Ambassador committee has partnered with our Workforce Development Center to collect canned and dry goods at our Contact Breakfast. Your donations are greatly appreciated.</strong></span></span><br />\n<br />\n<span style="font-size: 16px\;"><span style="font-family: &quot\;times new roman&quot\;\;">Please send questions for the candidates in advance for consideration to&nbsp\;<strong><a href="mailto:richk@dcrcoc.org"><span style="color: rgb(0\, 0\, 255)\;">richk@dcrcoc.org</span></a></strong></span></span>.<br />\n<br />\n<span style="font-size:16px\;"><strong><span style="font-family: arial\;">Sponsored by: <a href="https://www.hvfcu.org/" target="_blank"><span style="color:#0000FF\;">Hudson Valley Federal Credit Union</span></a></span></strong></span><br />\n<br />\n<span style="font-family: Arial\, Helvetica\, &quot\;MS Sans Serif&quot\;\, sans-serif\;"><span style="font-size: 14px\;"><span style="font-family: arial\;"><strong>Nonprofits</strong>: <a href="http://www.astorservices.org" target="_blank"><span style="color:#0000FF\;">Astor Services for Children &amp\; Families</span></a><font color="#0000ff">\, </font><a href="http://www.hudsonvalleycs.org" target="_blank"><span style="color:#0000FF\;">Hudson Valley&nbsp\;Community Services</span></a><font color="#0000ff">\,&nbsp\;</font><span style="color:#000000\;">and </span><a href="http://www.animalfarmfoundation.org" target="_blank"><span style="color:#0000FF\;">Animal Farm Foundation\, Inc.</span></a></span></span></span></p>\n
LOCATION:The Poughkeepsie Grand Hotel & Conference Center 40 Civic Center Plaza Poughkeepsie\, NY 12601
UID:e.2770.10476515
SEQUENCE:3
DTSTAMP:20260425T114807Z
URL:https://business.dcrcoc.org/events/details/october-contact-breakfast-10476515
END:VEVENT

END:VCALENDAR
