BEGIN:VCALENDAR
VERSION:2.0
PRODID:-//ChamberMaster//Event Calendar 2.0//EN
METHOD:PUBLISH
X-PUBLISHED-TTL:P3D
REFRESH-INTERVAL:P3D
CALSCALE:GREGORIAN
BEGIN:VEVENT
DTSTART:20201021T113000Z
DTEND:20201021T130000Z
X-MICROSOFT-CDO-ALLDAYEVENT:FALSE
SUMMARY:October Contact Breakfast
DESCRIPTION:The Chamber's October Breakfast will feature a candidate forum\, this one with candidates for New York State Senate\, 41st District seat\, incumbent Sue Serino and challenger\, Karen Smythe.\n\n\n\nThis virtual event is open to the public and will be available to watch on Zoom.\n\nPre-registration is required\, as space is limited. \n\n \n\nTo register\, please click here.\n\n\n\nEconomic-related questions for this forum may be sent in advance for consideration to richk@dcrcoc.org\n\n\n\nSponsored By: Hudson Valley Credit Union
X-ALT-DESC;FMTTYPE=text/html:<p><br />\n<span style="color: rgb(0\, 0\, 0)\;"><span style="font-size: 18px\;"><span style="font-family: &quot\;times new roman&quot\;\;">The Chamber&#39\;s October Breakfast will feature a&nbsp\;candidate forum\, this one with candidates for New York State Senate\, 41st District seat\,</span></span></span><span style="color: rgb(34\, 34\, 34)\; font-family: Roboto\, arial\, sans-serif\; font-size: 14px\;">&nbsp\;</span><span style="font-family: &quot\;times new roman&quot\;\; font-size: 18px\;"><span style="color: rgb(0\, 0\, 0)\;">incumbent Sue Serino&nbsp\;and challenger\, Karen Smythe.</span></span><br />\n<br />\n<span style="background-image: initial\; background-position: initial\; background-size: initial\; background-repeat: initial\; background-attachment: initial\; background-origin: initial\; background-clip: initial\; color: rgb(0\, 0\, 0)\; font-family: &quot\;times new roman&quot\;\;"><span style="font-size: 13.5pt\;">This virtual event is open to the public and will be available to watch on Zoom.</span></span><br style="color: rgb(0\, 0\, 0)\; font-family: &quot\;times new roman&quot\;\;" />\n<span style="color: rgb(0\, 0\, 0)\; font-family: &quot\;times new roman&quot\;\; font-size: 13.5pt\;"><span style="background-image: initial\; background-position: initial\; background-size: initial\; background-repeat: initial\; background-attachment: initial\; background-origin: initial\; background-clip: initial\;">Pre-registration is required\, as space is limited.&nbsp\;</span></span><br style="color: rgb(0\, 0\, 0)\; font-family: &quot\;times new roman&quot\;\;" />\n<span style="color: rgb(0\, 0\, 0)\; font-family: &quot\;times new roman&quot\;\;">&nbsp\;</span><br style="color: rgb(0\, 0\, 0)\; font-family: &quot\;times new roman&quot\;\;" />\n<span style="background-image: initial\; background-position: initial\; background-size: initial\; background-repeat: initial\; background-attachment: initial\; background-origin: initial\; background-clip: initial\; color: rgb(0\, 0\, 0)\; font-family: &quot\;times new roman&quot\;\;"><span style="font-size: 13.5pt\;">To register\, please click </span></span><span style="background-image: initial\; background-position: initial\; background-size: initial\; background-repeat: initial\; background-attachment: initial\; background-origin: initial\; background-clip: initial\; font-family: &quot\;times new roman&quot\;\;"><span style="font-size: 13.5pt\;"><strong><a href="https://dcrcoc-org.zoom.us/webinar/register/WN_4EBbsgOlT9CNa39JXp1aWg" target="_blank"><span style="color:#0000FF\;">here</span></a></strong></span></span><span style="background-image: initial\; background-position: initial\; background-size: initial\; background-repeat: initial\; background-attachment: initial\; background-origin: initial\; background-clip: initial\; color: rgb(0\, 0\, 0)\; font-family: &quot\;times new roman&quot\;\;"><span style="font-size: 13.5pt\;">.</span></span><br />\n<br />\n<span style="font-family: &quot\;times new roman&quot\;\;"><span style="background-image: initial\; background-position: initial\; background-size: initial\; background-repeat: initial\; background-attachment: initial\; background-origin: initial\; background-clip: initial\;"><span style="color: rgb(0\, 0\, 0)\;"><span style="font-size: 13.5pt\;">Economic-related questions for this forum may be sent in advance for consideration to</span></span><span style="font-size: 13.5pt\;">&nbsp\;</span></span><span style="font-size: 18px\;"><strong><a href="mailto:richk@dcrcoc.org"><span style="color: rgb(0\, 0\, 255)\;">richk@dcrcoc.org</span></a></strong></span></span><br />\n<br />\n<span style="font-family:times new roman\;"><span style="font-size:16px\;"><span style="font-size:22px\;"><span style="font-size:18px\;"><span style="color:#000000\;">Sponsored By: </span><a href="http://www.hvcu.org/" target="_blank"><strong><span style="color:#0000FF\;">Hudson Valley Credit Union</span></strong></a></span></span></span></span></p>\n
LOCATION:
UID:e.2770.10482525
SEQUENCE:3
DTSTAMP:20260421T223140Z
URL:https://business.dcrcoc.org/events/details/october-contact-breakfast-10482525
END:VEVENT

END:VCALENDAR
