BEGIN:VCALENDAR
VERSION:2.0
PRODID:-//ChamberMaster//Event Calendar 2.0//EN
METHOD:PUBLISH
X-PUBLISHED-TTL:P3D
REFRESH-INTERVAL:P3D
CALSCALE:GREGORIAN
BEGIN:VEVENT
DTSTART:20190507T213000Z
DTEND:20190507T230000Z
X-MICROSOFT-CDO-ALLDAYEVENT:FALSE
SUMMARY:One Dish Dinners
DESCRIPTION:Back by popular demand! If you're busy\, or simply hate washing dishes\, this class is for you. Learn to cook flavorful dinners that use only one pot. Clean up has never been so easy\, and dinner so tasty! ($15)
X-ALT-DESC;FMTTYPE=text/html:Back by popular demand! If you&rsquo\;re busy\, or simply hate washing dishes\, this class is for you. Learn to cook flavorful dinners that use only one pot. Clean up has never been so easy\, and dinner so tasty! ($15)
LOCATION:NewYork-Presbyterian Hudson Valley Hospital Chef Peter X. Kelly Teaching Kitchen 1992 Crompond Road Cortlandt Manor\, NY
UID:e.2770.10480693
SEQUENCE:3
DTSTAMP:20260423T044319Z
URL:https://business.dcrcoc.org/events/details/one-dish-dinners-10480693
END:VEVENT

END:VCALENDAR
