BEGIN:VCALENDAR
VERSION:2.0
PRODID:-//ChamberMaster//Event Calendar 2.0//EN
METHOD:PUBLISH
X-PUBLISHED-TTL:P3D
REFRESH-INTERVAL:P3D
CALSCALE:GREGORIAN
BEGIN:VEVENT
DTSTART:20190928T153000Z
DTEND:20190928T190000Z
X-MICROSOFT-CDO-ALLDAYEVENT:FALSE
SUMMARY:Open House at Renaissance Kids\, Inc.
DESCRIPTION:Renaissance Kids\, Inc. is having an Open House on Saturday\, September 28\, from 11:30 am - 3:00 pm (rain or shine).  Crafts and activities for the kids\, student performance\, and refreshments.  Renaissance Kids\, Inc.\, is an arts-enrichment school with programs that include art classes\, music classes\, private music lessons\, writing classes\, classes for homeschoolers\, summer camp\, spring break camp\, birthday parties\, and workshops. New students can join at any time!   We are located at 1343 Route 44\, Pleasant Valley\, NY 12569.  For more information\, please call (845) 452-4225 or visit us at www.renkids.org.
X-ALT-DESC;FMTTYPE=text/html:Renaissance Kids\, Inc. is having an Open House on Saturday\, September 28\, from 11:30 am - 3:00 pm (rain or shine). &nbsp\;Crafts and activities for the kids\, student performance\, and refreshments. &nbsp\;Renaissance Kids\, Inc.\, is an arts-enrichment school with programs that include art classes\, music classes\, private music lessons\, writing classes\, classes for homeschoolers\, summer camp\, spring break camp\, birthday parties\, and workshops. New students can join at any time! &nbsp\; We are located at 1343 Route 44\, Pleasant Valley\, NY 12569. &nbsp\;For more information\, please call (845) 452-4225 or visit us at www.renkids.org.
LOCATION:Renaissance Kids\, Inc.\, 1343 Route 44\, Pleasant Valley\, NY 12569
UID:e.2770.10481153
SEQUENCE:3
DTSTAMP:20260422T221040Z
URL:https://business.dcrcoc.org/events/details/open-house-at-renaissance-kids-inc-10481153
END:VEVENT

END:VCALENDAR
