BEGIN:VCALENDAR
VERSION:2.0
PRODID:-//ChamberMaster//Event Calendar 2.0//EN
METHOD:PUBLISH
X-PUBLISHED-TTL:P3D
REFRESH-INTERVAL:P3D
CALSCALE:GREGORIAN
BEGIN:VEVENT
DTSTART:20191024T200000Z
DTEND:20191024T220000Z
X-MICROSOFT-CDO-ALLDAYEVENT:FALSE
SUMMARY:Open House: Maples Executive Office Suites
DESCRIPTION:The renovations to the grand\, historic Maples in Rhinebeck are finally complete. Whether you are looking for office space in Rhinebeck (hard to find!)\, curious about the renovations or simply want to help us celebrate\, we hope you'll join us for a relaxing afternoon with cocktails and hors d'oeuvres. The Maples offers all-inclusive\, elegant office spaces for professionals needing flexibility and simplicity.
X-ALT-DESC;FMTTYPE=text/html:The renovations to the grand\, historic Maples in Rhinebeck are finally complete. Whether you are looking for office space in Rhinebeck (hard to find!)\, curious about the renovations or simply want to help us celebrate\, we hope you&#39\;ll join us for a relaxing afternoon with cocktails and hors d&rsquo\;oeuvres. The Maples offers all-inclusive\, elegant office spaces for professionals needing flexibility and simplicity.
LOCATION:108 Montgomery Street Rhinebeck\, NY 12572
UID:e.2770.10482519
SEQUENCE:3
DTSTAMP:20260422T182934Z
URL:https://business.dcrcoc.org/events/details/open-house-maples-executive-office-suites-10482519
END:VEVENT

END:VCALENDAR
