BEGIN:VCALENDAR
VERSION:2.0
PRODID:-//ChamberMaster//Event Calendar 2.0//EN
METHOD:PUBLISH
X-PUBLISHED-TTL:P3D
REFRESH-INTERVAL:P3D
CALSCALE:GREGORIAN
BEGIN:VEVENT
DTSTART:20180108T110000Z
DTEND:20180112T121500Z
X-MICROSOFT-CDO-ALLDAYEVENT:FALSE
SUMMARY:OPEN HOUSE: Masters Swimming With Hudson Valley Dolphins
DESCRIPTION:Hudson Valley Dolphins U.S. Masters Swimming is hosting an OPEN HOUSE from January 8th through January 12th. Enjoy a free trial week of swimming. U.S. Masters is an adult swimming program open to swimmers of all abilities who are 18 years old and older. The program ranges from those who are new to lap swimming\, to marathon & tri-athletes looking for training\, to lifelong swimmers wanting just to exercise. Practices will be led by USA Swimming registered coaches and provide workouts from challenging for those athletes looking to train to a less strenuous workout designed for health and fitness. An overall focus will be in creating a sense of team and camaraderie. Practices are held Monday through Friday from 6:00 am to 7:15 am at the Culinary Institute of America pool (Student Commons Building) in Hyde Park\, NY For more information\, please visit the Dolphin's website at www.Dolphinsswimclub.org and click on the U.S. Masters Swimming box or contact Katie Nikolski at knikolski@yahoo.com
X-ALT-DESC;FMTTYPE=text/html:Hudson Valley Dolphins U.S. Masters Swimming is hosting an OPEN HOUSE from January 8th through January 12th. Enjoy a free trial week of swimming. U.S. Masters is an adult swimming program open to swimmers of all abilities who are 18 years old and older. The program ranges from those who are new to lap swimming\, to marathon &amp\; tri-athletes looking for training\, to lifelong swimmers wanting just to exercise. Practices will be led by USA Swimming registered coaches and provide workouts from challenging for those athletes looking to train to a less strenuous workout designed for health and fitness. An overall focus will be in creating a sense of team and camaraderie. Practices are held Monday through Friday from 6:00 am to 7:15 am at the Culinary Institute of America pool (Student Commons Building) in Hyde Park\, NY For more information\, please visit the Dolphin&#39\;s website at www.Dolphinsswimclub.org and click on the U.S. Masters Swimming box or contact Katie Nikolski at knikolski@yahoo.com
LOCATION:Culinary Institute of America : Student Commons 1946 Campus Drive (Route 9) Hyde Park\, NY
UID:e.2770.10476681
SEQUENCE:3
DTSTAMP:20260425T232424Z
URL:https://business.dcrcoc.org/events/details/open-house-masters-swimming-with-hudson-valley-dolphins-10476681
END:VEVENT

END:VCALENDAR
