BEGIN:VCALENDAR
VERSION:2.0
PRODID:-//ChamberMaster//Event Calendar 2.0//EN
METHOD:PUBLISH
X-PUBLISHED-TTL:P3D
REFRESH-INTERVAL:P3D
CALSCALE:GREGORIAN
BEGIN:VEVENT
DTSTART:20180224T200000Z
DTEND:20180224T220000Z
X-MICROSOFT-CDO-ALLDAYEVENT:FALSE
SUMMARY:Open Studios
DESCRIPTION:Open Studios offers the opportunity to learn about the artists in residence at the Wassaic Project.Visitors will be able to see what the resident's have been hard at work creating. February residency artists are Diana Abells\, Keenan Bennett\, Barbara Bourland\, Christina Crapanzano\, Nicole Dyer\, Allie Hankins\, Kara Hearn\, Katy McCarthy\, Mandy Messina\, William Miller and Lena Schmid.
X-ALT-DESC;FMTTYPE=text/html:Open Studios offers the opportunity to learn about the artists in residence at the Wassaic Project.Visitors will be able to see what the resident&rsquo\;s have been hard at work creating. February residency artists are Diana Abells\, Keenan Bennett\, Barbara Bourland\, Christina Crapanzano\, Nicole Dyer\, Allie Hankins\, Kara Hearn\, Katy McCarthy\, Mandy Messina\, William Miller and Lena Schmid.
LOCATION:Wassaic Project\, 37 Furnace Bank Road\, Wassaic\, NY 12592
UID:e.2770.10476776
SEQUENCE:3
DTSTAMP:20260425T221643Z
URL:https://business.dcrcoc.org/events/details/open-studios-02-24-2018-10476776
END:VEVENT

END:VCALENDAR
