BEGIN:VCALENDAR
VERSION:2.0
PRODID:-//ChamberMaster//Event Calendar 2.0//EN
METHOD:PUBLISH
X-PUBLISHED-TTL:P3D
REFRESH-INTERVAL:P3D
CALSCALE:GREGORIAN
BEGIN:VEVENT
DTSTART:20180721T190000Z
DTEND:20180721T210000Z
X-MICROSOFT-CDO-ALLDAYEVENT:FALSE
SUMMARY:Open Studios with July Artists
DESCRIPTION:Open studios offer a once-a-month opportunity to learn about the artists-in-residence at the Wassaic Project. Visitors will be able to learn about the residents' artwork\, see what they have been creating\, and ask questions about their craft. Artists-in-residence include: Marisa Adesman\, Christian Berman\, Amanda Edwards\, Dava Fearon\, Jodie Goodnough\, Kathie Halfin\, Amber Heaton\, Mike McGinnis\, Mad Mohre\, Nadia Odlum\, Manny Padernos\, Daniel Phillips\, Jean Carla Rodea\, and Nyugen Smith.
X-ALT-DESC;FMTTYPE=text/html:Open studios offer a once-a-month opportunity to learn about the artists-in-residence at the Wassaic Project. Visitors will be able to learn about the residents&#39\; artwork\, see what they have been creating\, and ask questions about their craft. Artists-in-residence include: Marisa Adesman\, Christian Berman\, Amanda Edwards\, Dava Fearon\, Jodie Goodnough\, Kathie Halfin\, Amber Heaton\, Mike McGinnis\, Mad Mohre\, Nadia Odlum\, Manny Padernos\, Daniel Phillips\, Jean Carla Rodea\, and Nyugen Smith.
LOCATION:Luther Barn 19 Furnace Bank Rd. Wassaic\, NY 12592
UID:e.2770.10479282
SEQUENCE:3
DTSTAMP:20260425T154909Z
URL:https://business.dcrcoc.org/events/details/open-studios-with-july-artists-10479282
END:VEVENT

END:VCALENDAR
