BEGIN:VCALENDAR
VERSION:2.0
PRODID:-//ChamberMaster//Event Calendar 2.0//EN
METHOD:PUBLISH
X-PUBLISHED-TTL:P3D
REFRESH-INTERVAL:P3D
CALSCALE:GREGORIAN
BEGIN:VEVENT
DTSTART:20190415T220000Z
DTEND:20190416T010000Z
X-MICROSOFT-CDO-ALLDAYEVENT:FALSE
SUMMARY:Optimizing Your Website For Business Growth
DESCRIPTION:Two-Part Session\; Must attend both sessions (April 15th and April 29th).  \n\n\n\nAn interactive WordPress seminar on better traffic\, better user experience\, and better results.\n\n\n\nTopics: \n\n- How to improve the effectiveness of your homepage\n\n- Getting users to your website & decreasing bounce rate\n\n- Improve user experience and interface\n\n- What you should know about website accessibility\n\n- A dive into the WordPress Dashboard\n\n- A quick look at the new WP interface\n\n\n\nEach attendee will get a free website audit with specific action items to improve the power of your website.\n\n\n\n* Must be in business at least 2 years and have a WordPress website.
X-ALT-DESC;FMTTYPE=text/html:<p><span style="font-size: 16px\;"><span style="color: rgb(255\, 0\, 0)\;"><strong>Two-Part Session\; Must attend both sessions (April 15th and April 29th).&nbsp\;&nbsp\;</strong></span><br />\n<br />\nAn interactive WordPress seminar on better traffic\, better user experience\, and better results.<br />\n<br />\n<u>Topics:&nbsp\;</u><br />\n- How to improve the effectiveness of your homepage<br />\n- Getting users to your website &amp\; decreasing bounce rate<br />\n- Improve user experience and interface<br />\n- What you should know about website accessibility<br />\n- A dive into the WordPress Dashboard<br />\n- A quick look at the new WP interface<br />\n<br />\nEach attendee will get a free website audit with specific action items to improve the power of your website.<br />\n<br />\n* Must be in business at least 2 years and have a WordPress website.</span></p>\n
LOCATION:Think Dutchess Alliance for Business 3 Neptune Road\, Suite A21 Poughkeepsie\, NY 12601
UID:e.2770.10480504
SEQUENCE:3
DTSTAMP:20260423T062302Z
URL:https://business.dcrcoc.org/events/details/optimizing-your-website-for-business-growth-10480504
END:VEVENT

END:VCALENDAR
