BEGIN:VCALENDAR
VERSION:2.0
PRODID:-//ChamberMaster//Event Calendar 2.0//EN
METHOD:PUBLISH
X-PUBLISHED-TTL:P3D
REFRESH-INTERVAL:P3D
CALSCALE:GREGORIAN
BEGIN:VEVENT
DTSTART;VALUE=DATE:20180531
DTEND;VALUE=DATE:20180601
TRANSP:TRANSPARENT
X-MICROSOFT-CDO-ALLDAYEVENT:TRUE
SUMMARY:Order your Chamber Jacket here!
DESCRIPTION:We are very pleased to announce that we will be offering the following Athletic Contrast Full-Zip Jacket to all committee and staff members.  These jackets are fitted for Women or Men and are available in Size XS   XL for $40.00\, with an additional charge for larger sizes. Once ordered\, jackets take two weeks for delivery and embroidery.  Samples are available to try on at the Chamber office (Ladies and Men sizes Medium or Extra Large).\n\n \n\nYour name and committee name (optional) will be embroidered on the front right side and the Chamber logo will be embroidered on the front left side.   \n\n\n\nThe color will be Charcoal Gray Heather with contrasting bright green trim.  The fabric and quality are excellent and it is a very comfortable fit\, with pockets\, tag-free label and taped neck.
X-ALT-DESC;FMTTYPE=text/html:<p style="margin: 0px\;"><font face="Calibri">We are very pleased to announce that we will be offering the following Athletic Contrast Full-Zip Jacket to all committee and staff members.<span style="margin: 0px\;">&nbsp\; </span>These jackets are fitted for Women or Men and are available in Size XS &ndash\; XL for $40.00\, with an additional charge for larger sizes. Once ordered\, jackets take two weeks for delivery and embroidery.&nbsp\; Samples are available to try on at the Chamber office (Ladies and Men sizes Medium or Extra Large).</font><br />\n&nbsp\;</p>\n\n<p style="margin: 0px\;"><font face="Calibri">Your name and committee name (optional) will be embroidered on the front right side and the Chamber logo will be embroidered on the front left side. &nbsp\;&nbsp\;</font></p>\n\n<p style="margin: 0px\;"><br />\n<font face="Calibri">The color will be Charcoal Gray Heather with contrasting bright green trim.<span style="margin: 0px\;">&nbsp\; </span>The fabric and quality are excellent and it is a very comfortable fit\, with pockets\, tag-free label and taped neck.<span style="margin: 0px\;">&nbsp\; </span></font></p>\n
LOCATION:
UID:e.2770.10476792
SEQUENCE:3
DTSTAMP:20260425T181655Z
URL:https://business.dcrcoc.org/events/details/order-your-chamber-jacket-here-10476792
END:VEVENT

END:VCALENDAR
