BEGIN:VCALENDAR
VERSION:2.0
PRODID:-//ChamberMaster//Event Calendar 2.0//EN
METHOD:PUBLISH
X-PUBLISHED-TTL:P3D
REFRESH-INTERVAL:P3D
CALSCALE:GREGORIAN
BEGIN:VEVENT
DTSTART:20180424T113000Z
DTEND:20180425T203000Z
X-MICROSOFT-CDO-ALLDAYEVENT:FALSE
SUMMARY:OSHA 10 Class
DESCRIPTION:Z3 Consultants Inc. welcomes Ed Robinson to our training facility\n\n located at 516 Haight Avenue\, Poughkeepsie.\n\nto present OSHA 10\, \n\nConstruction training for all Personnel Responsible for Construction-related Projects
X-ALT-DESC;FMTTYPE=text/html:<u><span style="font-family:cambria"><span style="font-size:16.0pt">Z3 Consultants Inc</span></span></u><strong><span style="font-family:cambria"><span style="font-size:16.0pt">.&nbsp\;</span></span></strong><span style="font-family:cambria"><span style="font-size:16.0pt">welcomes </span></span><u><span style="font-family:cambria"><span style="font-size:16.0pt">Ed Robinson&nbsp\;</span></span></u><span style="font-family:cambria"><span style="font-size:16.0pt">to our training facility</span></span><br />\n<span style="font-family:cambria"><span style="font-size:16.0pt">&nbsp\;located at&nbsp\;</span></span><u><span style="font-family:cambria"><span style="font-size:16.0pt">516 Haight Avenue\, Poughkeepsie</span></span></u><span style="font-family:cambria"><span style="font-size:16.0pt">.<br />\nto present </span></span><u><span style="font-family:cambria"><span style="font-size:16.0pt">OSHA 10</span></span></u><span style="font-family:cambria"><span style="font-size:16.0pt">\, </span></span><br />\n<span style="font-family:cambria"><span style="font-size:16.0pt">Construction training for all Personnel Responsible for Construction-related Projects</span></span><br />\n<br />\n<br />\n<br />\n<br />\n&nbsp\;
LOCATION:516 Haight Avenue training facility
UID:e.2770.10477139
SEQUENCE:3
DTSTAMP:20260425T194743Z
URL:https://business.dcrcoc.org/events/details/osha-10-class-10477139
END:VEVENT

END:VCALENDAR
