BEGIN:VCALENDAR
VERSION:2.0
PRODID:-//ChamberMaster//Event Calendar 2.0//EN
METHOD:PUBLISH
X-PUBLISHED-TTL:P3D
REFRESH-INTERVAL:P3D
CALSCALE:GREGORIAN
BEGIN:VEVENT
DTSTART:20180426T163000Z
DTEND:20180427T220000Z
X-MICROSOFT-CDO-ALLDAYEVENT:FALSE
SUMMARY:OSHA 10 Class en Español
DESCRIPTION:Z3 Consultants Inc. has had numerous requests to hold a Spanish OSHA 10 so we've added another OSHA 10 in Spanish see below.\n\nZ3 Consultants Inc. Le da la bienvenida a Alex Castro a nuestras instalaciones de entrenamiento\n\nubicado en 516 Haight Avenue\, Poughkeepsie para\n\npresentar OSHA 10 (espa ol)\, capacitaci n en construcci n para todo el personal responsable de proyectos relacionados con la construcci n
X-ALT-DESC;FMTTYPE=text/html:<u><span style="color:lime"><span style="font-family:verdana">Z3 Consultants Inc.</span></span></u><strong><span style="color:black"><span style="font-family:verdana">&nbsp\;has had numerous requests to hold a&nbsp\;</span></span></strong><u><span style="color:lime"><span style="font-family:verdana">Spanish OSHA 10</span></span></u><strong><span style="color:black"><span style="font-family:verdana">&nbsp\;so we&#39\;ve added another&nbsp\;</span></span></strong><u><span style="color:lime"><span style="font-family:verdana">OSHA 10</span></span></u><strong><span style="color:black"><span style="font-family:verdana">&nbsp\;in&nbsp\;</span></span></strong><u><span style="color:lime"><span style="font-family:verdana">Spanish</span></span></u><strong><span style="color:black"><span style="font-family:verdana">&nbsp\;see below.</span></span></strong><br />\n<u><span style="color:lime"><span style="font-family:lucida sans unicode">Z3 Consultants Inc.</span></span></u><strong><span style="color:black"><span style="font-family:lucida sans unicode">&nbsp\;Le da la bienvenida a&nbsp\;</span></span></strong><u><span style="color:lime"><span style="font-family:lucida sans unicode">Alex Castro</span></span></u><strong><span style="color:black"><span style="font-family:lucida sans unicode">&nbsp\;a nuestras instalaciones de entrenamiento<br />\nubicado en&nbsp\;</span></span></strong><u><span style="color:lime"><span style="font-family:lucida sans unicode">516 Haight Avenue\, Poughkeepsie</span></span></u>&nbsp\;<strong><span style="color:black"><span style="font-family:lucida sans unicode">para</span></span></strong><br />\n<strong><span style="color:black"><span style="font-family:lucida sans unicode">presentar&nbsp\;</span></span></strong><u><span style="color:lime"><span style="font-family:lucida sans unicode">OSHA 10 (espa&ntilde\;ol)</span></span></u><strong><span style="color:black"><span style="font-family:lucida sans unicode">\, capacitaci&oacute\;n en construcci&oacute\;n para todo el personal responsable de proyectos relacionados con la construcci&oacute\;n</span></span></strong><br />\n&nbsp\;
LOCATION:Las clases est n programadas en el Centro de Capacitaci n en: 516 Haight Avenue\, Poughkeepsie 12603
UID:e.2770.10477141
SEQUENCE:3
DTSTAMP:20260425T210437Z
URL:https://business.dcrcoc.org/events/details/osha-10-class-en-espa&#241;ol-10477141
END:VEVENT

END:VCALENDAR
