BEGIN:VCALENDAR
VERSION:2.0
PRODID:-//ChamberMaster//Event Calendar 2.0//EN
METHOD:PUBLISH
X-PUBLISHED-TTL:P3D
REFRESH-INTERVAL:P3D
CALSCALE:GREGORIAN
BEGIN:VEVENT
DTSTART:20180517T223000Z
DTEND:20180517T233000Z
X-MICROSOFT-CDO-ALLDAYEVENT:FALSE
SUMMARY:Osteoporosis: It's Never Too Late to Take Steps to Protect Your Bones
DESCRIPTION:Join Dr. Karl Ziermann to learn more about osteoporosis and steps you can take to start improving your bone health today!\n\n \n\nRegister online at:\n\nbit.ly/protectyourbones\n\nor Call:\n\n845-454-0120 ext 1266
X-ALT-DESC;FMTTYPE=text/html:Join Dr. Karl Ziermann to learn more about osteoporosis and steps you can take to start improving your bone health today!<br />\n&nbsp\;<br />\nRegister online at:<br />\nbit.ly/protectyourbones<br />\nor Call:<br />\n845-454-0120 ext 1266
LOCATION:Orthopedic Associates of Dutchess County 1910 South Road Poughkeepsie\, NY 12601
UID:e.2770.10477649
SEQUENCE:3
DTSTAMP:20260425T182126Z
URL:https://business.dcrcoc.org/events/details/osteoporosis-it-s-never-too-late-to-take-steps-to-protect-your-bones-10477649
END:VEVENT

END:VCALENDAR
