BEGIN:VCALENDAR
VERSION:2.0
PRODID:-//ChamberMaster//Event Calendar 2.0//EN
METHOD:PUBLISH
X-PUBLISHED-TTL:P3D
REFRESH-INTERVAL:P3D
CALSCALE:GREGORIAN
BEGIN:VEVENT
DTSTART:20181012T120000Z
DTEND:20181012T150000Z
X-MICROSOFT-CDO-ALLDAYEVENT:FALSE
SUMMARY:Our Ability Alliance/Disability: IN New York Conversation on Workforce Readiness
DESCRIPTION:In support of workforce readiness for post-secondary students with disabilities\, Our Ability Alliance/Disability:IN New York is holding 10 facilitated conversations between regional businesses\, interested employment service providers and community college faculty and staff across New York. The meetings' purpose is to identify needed skills and potential skills gaps that influence hiring or promotion decisions. The agenda will include a networking breakfast\, panel discussion and a question and answer session. Don't miss this opportunity to provide insight on this important workforce development topic. Your feedback will inform Our Abilities' recommendations to the Developmental Disabilities Planning Council for addressing the skills gap. There is no cost to attend this event. Simply e-mail MaryBeth Schneider at marybeth@ourability.com to register. Please include your name and the organization you represent.
X-ALT-DESC;FMTTYPE=text/html:In support of workforce readiness for post-secondary students with disabilities\, Our Ability Alliance/Disability:IN New York is holding 10 facilitated conversations between regional businesses\, interested employment service providers and community college faculty and staff across New York. The meetings&#39\; purpose is to identify needed skills and potential skills gaps that influence hiring or promotion decisions. The agenda will include a networking breakfast\, panel discussion and a question and answer session. Don&#39\;t miss this opportunity to provide insight on this important workforce development topic. Your feedback will inform Our Abilities&#39\; recommendations to the Developmental Disabilities Planning Council for addressing the skills gap. There is no cost to attend this event. Simply e-mail MaryBeth Schneider at marybeth@ourability.com to register. Please include your name and the organization you represent.
LOCATION:Dutchess Community College\, Bowne Hall\, room 122
UID:e.2770.10479729
SEQUENCE:3
DTSTAMP:20260425T114948Z
URL:https://business.dcrcoc.org/events/details/our-ability-alliance-disability-in-new-york-conversation-on-workforce-readiness-10479729
END:VEVENT

END:VCALENDAR
