BEGIN:VCALENDAR
VERSION:2.0
PRODID:-//ChamberMaster//Event Calendar 2.0//EN
METHOD:PUBLISH
X-PUBLISHED-TTL:P3D
REFRESH-INTERVAL:P3D
CALSCALE:GREGORIAN
BEGIN:VEVENT
DTSTART:20180621T153000Z
DTEND:20180622T010000Z
X-MICROSOFT-CDO-ALLDAYEVENT:FALSE
SUMMARY:Our Lady of Lourdes High School Athletic Hall of Fame Induction Ceremony & Golf Classic
DESCRIPTION:Our Lady of Lourdes High School \n\npresents\n\n \n\n2002 Girls Basketball Team\n\nLaura Corning Blodgett '78\n\nCaitlin Chiaramonte '98\n\nJ. Daniel Graham '96\n\nMichael Laffin '75\n\nGerald McElduff '77\n\nChristopher Ray '90\n\nBrent Thompson '94\n\n \n\nALL GOLF PARTICIPANTS RECEIVE:\n\n18 Holes of Golf with Cart . Scramble Format. Complimentary Use of Driving Range and Putting Green.  Buffet Lunch.  Beverages on Course.  Cocktail Reception with Top-Shelf Open Bar.  Dinner and Dessert.  Prizes and Fun\n\nGOLF DRESS CODE\n\nCollared Shirt Required.  Soft Spike Shoes Only.   No Jeans or Cargo shorts.\n\n(Locker rooms not available)\n\nHALL OF FAME DINNER GUESTS RECEIVE\n\nCocktail Reception with Top-Shelf Open Bar.   Dinner and Dessert
X-ALT-DESC;FMTTYPE=text/html:<p><span style="font-family:times new roman"><span style="font-size:14px"><strong>Our Lady of Lourdes High School </strong><br />\n<em>presents</em><br />\n&nbsp\;<br />\n<strong>2002 Girls Basketball Team</strong><br />\n<strong>Laura Corning Blodgett &rsquo\;78</strong><br />\n<strong>Caitlin Chiaramonte &rsquo\;98</strong><br />\n<strong>J. Daniel Graham &rsquo\;96<br />\nMichael Laffin &rsquo\;75</strong><br />\n<strong>Gerald McElduff &rsquo\;77</strong><br />\n<strong>Christopher Ray &rsquo\;90</strong><br />\n<strong>Brent Thompson &rsquo\;94</strong><br />\n&nbsp\;<br />\n<em><strong>ALL GOLF PARTICIPANTS RECEIVE:</strong></em></span></span></p>\n\n<p><span style="font-family:times new roman"><span style="font-size:14px"><span style="text-align:center">18 Holes of Golf with </span></span></span><span style="font-family:times new roman"><span style="font-size:14px">Cart .</span></span><span style="font-family:times new roman"><span style="font-size:14px"><span style="text-align:center"> Scramble Format. Complimentary Use of Driving Range and Putting Green. &nbsp\;Buffet Lunch. &nbsp\;Beverages on Course. &nbsp\;Cocktail Reception with Top-Shelf Open Bar. &nbsp\;Dinner and Dessert. &nbsp\;Prizes and Fun</span></span></span></p>\n\n<p><span style="font-family:times new roman"><span style="font-size:14px"><em><strong>GOLF DRESS CODE</strong></em><br />\nCollared Shirt Required. &nbsp\;Soft Spike Shoes Only. &nbsp\; No Jeans or&nbsp\;Cargo shorts.<br />\n(Locker rooms not available)</span></span></p>\n\n<p><span style="font-family:times new roman"><span style="font-size:14px"><em><strong>HALL OF FAME DINNER GUESTS RECEIVE</strong></em><br />\nCocktail Reception with Top-Shelf Open Bar. &nbsp\; Dinner and Dessert</span></span></p>\n
LOCATION:McCann Memorial Golf Course Christos Catering 155 Wilbur Blvd Poughkeepsie\, New York 12603
UID:e.2770.10477811
SEQUENCE:3
DTSTAMP:20260425T171424Z
URL:https://business.dcrcoc.org/events/details/our-lady-of-lourdes-high-school-athletic-hall-of-fame-induction-ceremony-golf-classic-10477811
END:VEVENT

END:VCALENDAR
