BEGIN:VCALENDAR
VERSION:2.0
PRODID:-//ChamberMaster//Event Calendar 2.0//EN
METHOD:PUBLISH
X-PUBLISHED-TTL:P3D
REFRESH-INTERVAL:P3D
CALSCALE:GREGORIAN
BEGIN:VEVENT
DTSTART:20200404T123000Z
DTEND:20200404T200000Z
X-MICROSOFT-CDO-ALLDAYEVENT:FALSE
SUMMARY:Our New World Conference: Create Your Destiny\, Achieve Your Dream
DESCRIPTION:WEDC and Putnam Score invite you to the Third Annual Women's Conference. Join us for:\n\n\n	Breakfast\n	Lunch\n	Great workshops\n	Social media panel\n	Networking opportunities
X-ALT-DESC;FMTTYPE=text/html:<p><span style="font-size:16px">WEDC and Putnam Score invite you to the Third Annual Women&#39\;s Conference. Join us for:</span></p>\n\n<ul>\n	<li><span style="font-size:16px">Breakfast</span></li>\n	<li><span style="font-size:16px">Lunch</span></li>\n	<li><span style="font-size:16px">Great workshops</span></li>\n	<li><span style="font-size:16px">Social media panel</span></li>\n	<li><span style="font-size:16px">Networking opportunities</span></li>\n</ul>\n
LOCATION:Putnam County Golf Club 187 Hill Street Mahopac\, NY 10541
UID:e.2770.10482659
SEQUENCE:3
DTSTAMP:20260422T083426Z
URL:https://business.dcrcoc.org/events/details/our-new-world-conference-create-your-destiny-achieve-your-dream-10482659
END:VEVENT

END:VCALENDAR
