BEGIN:VCALENDAR
VERSION:2.0
PRODID:-//ChamberMaster//Event Calendar 2.0//EN
METHOD:PUBLISH
X-PUBLISHED-TTL:P3D
REFRESH-INTERVAL:P3D
CALSCALE:GREGORIAN
BEGIN:VEVENT
DTSTART:20180428T123000Z
DTEND:20180428T180000Z
X-MICROSOFT-CDO-ALLDAYEVENT:FALSE
SUMMARY:Our New World Conference – Empowering Women in Business
DESCRIPTION:Join Us for a Day of Empowering Workshops\n\nKEYNOTE SPEAKER : Kate Bradley Chernis\, CEO & Founder of Lately\n\n \n\nSaturday   April 28\, 2018   8:30 am to 2:00 pm\n\n@ Putnam County Training & Operations Center (TOPS)\n\n  112 Old Route Six   Carmel   NY   10512\n\n \n\nLunch included in ticket price\, following the conference @ 1pm\n\n@ Tilly's Table @ Tilly Foster Farm   100 NY-312   Brewster   NY   10509\n\n \n\nVisit  OurNewWorldConference.org to learn more and register. \n\n$49.95 Early Bird Price until 4/16/18!  $65 After 4/16/18.
X-ALT-DESC;FMTTYPE=text/html:<h2 style="text-align:center"><strong>Join Us for a Day of Empowering Workshops</strong></h2>\n\n<h5 style="text-align:center"><strong>KEYNOTE</strong> <strong>SPEAKER : </strong>Kate Bradley Chernis\, CEO &amp\; Founder of Lately</h5>\n\n<p>&nbsp\;</p>\n\n<p style="text-align:center"><strong>Saturday &ndash\; April 28\, 2018 &ndash\; 8:30 am to 2:00 pm</strong></p>\n\n<p style="text-align:center">@ Putnam County Training &amp\; Operations Center (TOPS)</p>\n\n<p style="text-align:center">&ndash\; 112 Old Route Six &ndash\; Carmel &ndash\; NY &ndash\; 10512</p>\n\n<p style="text-align:center">&nbsp\;</p>\n\n<p style="text-align:center"><strong><em>Lunch included in ticket price\, following the conference @ 1pm</em></strong></p>\n\n<p style="text-align:center"><strong><em>@ Tilly&rsquo\;s Table @ Tilly Foster Farm &ndash\; 100 NY-312 &ndash\; Brewster &ndash\; NY &ndash\; 10509</em></strong></p>\n\n<p>&nbsp\;</p>\n\n<h2 style="text-align:center">Visit&nbsp\; <a href="http://OurNewWorldConference.org/"><strong>OurNewWorldConference.org</strong></a> to learn more and register.&nbsp\;</h2>\n\n<h2 style="text-align:center">$49.95 Early Bird Price until 4/16/18!&nbsp\; $65 After 4/16/18.</h2>\n
LOCATION:Putnam County Training & Operations Center (TOPS) 112 Old Route 6 Carmel\, NY 10512 United States
UID:e.2770.10477160
SEQUENCE:3
DTSTAMP:20260425T195439Z
URL:https://business.dcrcoc.org/events/details/our-new-world-conference-empowering-women-in-business-04-28-2018-10477160
END:VEVENT

END:VCALENDAR
