BEGIN:VCALENDAR
VERSION:2.0
PRODID:-//ChamberMaster//Event Calendar 2.0//EN
METHOD:PUBLISH
X-PUBLISHED-TTL:P3D
REFRESH-INTERVAL:P3D
CALSCALE:GREGORIAN
BEGIN:VEVENT
DTSTART:20180428T123000Z
DTEND:20180428T180000Z
X-MICROSOFT-CDO-ALLDAYEVENT:FALSE
SUMMARY:Our New World Conference - Empowering Women in Business
DESCRIPTION:Our New World Conference - Empowering Women in Business\n\nThe Women's Enterprise Development Center (WEDC) and the Putnam County SCORE chapter's inaugural Women's Business Conference will be on Saturday\, April 28 from 8:30 am to 2 pm. The conference will take place at Putnam County Training and Operations Center (TOPS) and lunch will be at Tilly's Table @ Tilly Foster Farm.\n\n\n\nKEYNOTE SPEAKER : Kate Bradley Chernis\, CEO & Founder of Lately\n\n\n\nCONFERENCE: \n\nPutnam County Training and Operations Center (TOPS)\n\n112 Old Route Six   Carmel   NY   10512\n\nLUNCH:\n\nTilly's Table @ Tilly Foster Farm\n\n100 NY-312   Brewster   NY   10509\n\n\n\nVisit  OurNewWorldConference.org to learn more and register.
X-ALT-DESC;FMTTYPE=text/html:Our New World Conference - Empowering Women in Business<br />\nThe Women&rsquo\;s Enterprise Development Center (WEDC) and the Putnam County SCORE chapter&#39\;s inaugural Women&rsquo\;s Business Conference will be on Saturday\, April 28 from 8:30 am to 2 pm. The conference will take place at Putnam County Training and Operations Center (TOPS) and lunch will be at Tilly&rsquo\;s Table @ Tilly Foster Farm.<br />\n<br />\n<strong>KEYNOTE SPEAKER</strong> : Kate Bradley Chernis\, CEO &amp\; Founder of Lately<br />\n<br />\n<strong>CONFERENCE:&nbsp\;</strong><br />\nPutnam County Training and Operations Center (TOPS)<br />\n112 Old Route Six &ndash\; Carmel &ndash\; NY &ndash\; 10512<br />\n<strong>LUNCH:</strong><br />\nTilly&rsquo\;s Table @ Tilly Foster Farm<br />\n100 NY-312 &ndash\; Brewster &ndash\; NY &ndash\; 10509<br />\n<br />\nVisit&nbsp\;<a href="http://ournewworldconference.org"> OurNewWorldConference.org</a> to learn more and register.
LOCATION:CONFERENCE: Putnam County Training and Operations Center (TOPS) 112 Old Route Six Carmel NY 10512 LUNCH: Tilly's Table @ Tilly Foster Farm 100 NY-312 Brewster NY 10509
UID:e.2770.10477162
SEQUENCE:3
DTSTAMP:20260425T195422Z
URL:https://business.dcrcoc.org/events/details/our-new-world-conference-empowering-women-in-business-04-28-2018-10477162
END:VEVENT

END:VCALENDAR
