BEGIN:VCALENDAR
VERSION:2.0
PRODID:-//ChamberMaster//Event Calendar 2.0//EN
METHOD:PUBLISH
X-PUBLISHED-TTL:P3D
REFRESH-INTERVAL:P3D
CALSCALE:GREGORIAN
BEGIN:VEVENT
DTSTART:20200320T231500Z
DTEND:20200320T231500Z
X-MICROSOFT-CDO-ALLDAYEVENT:FALSE
SUMMARY:Party Skate
DESCRIPTION:Friday Night Party Skate starts October 18th from 7:15-9:15pm All ages are welcome to come skate\, dance\, win prizes and have some fun! Different themed nights each week with music and giveaways! Visit MidHudsonCivicCenter.org or find us on Facebook to see how you can save $$$ on admission! Reoccurring Friday nights through March 20th
X-ALT-DESC;FMTTYPE=text/html:Friday Night Party Skate starts October 18th from 7:15-9:15pm All ages are welcome to come skate\, dance\, win prizes and have some fun! Different themed nights each week with music and giveaways! Visit MidHudsonCivicCenter.org or find us on Facebook to see how you can save $$$ on admission! Reoccurring Friday nights through March 20th
LOCATION:McCann Ice Arena
UID:e.2770.10483219
SEQUENCE:3
DTSTAMP:20260422T101748Z
URL:https://business.dcrcoc.org/events/details/party-skate-03-20-2020-10483219
END:VEVENT

END:VCALENDAR
