BEGIN:VCALENDAR
VERSION:2.0
PRODID:-//ChamberMaster//Event Calendar 2.0//EN
METHOD:PUBLISH
X-PUBLISHED-TTL:P3D
REFRESH-INTERVAL:P3D
CALSCALE:GREGORIAN
BEGIN:VEVENT
DTSTART:20181020T130000Z
DTEND:20181020T170000Z
X-MICROSOFT-CDO-ALLDAYEVENT:FALSE
SUMMARY:Passport Day at Dutchess County Clerk's Office
DESCRIPTION:Dutchess County Clerk Brad Kendall announces Passport Day\, which will be held on Saturday\, October 20\, 2018 from 9:00 am until 1:00 pm at the Dutchess County Clerk's Office\, 22 Market Street  1st Floor\, Poughkeepsie\, New York 12601. Adults who are first-time applicants\, children under age 16 or those who obtained their current passport before they turned 16\, or those needing a replacement for a lost\, stolen\, or damaged passport will be assisted on a first-come\, first served basis. All U.S. citizens must present a valid passport book when entering or re-entering the United States by air. U.S. citizens entering the United States from Canada\, Mexico\, the Caribbean and Bermuda at land borders and sea ports of entry must present a passport book\, passport card\, or other travel documents approved by the U.S. government. As a passport processing facility\, the County Clerk's Office serves as a one-stop shop where individuals and families applying for a U.S. passport can also have their passport photos taken outside of normal business hours. Free parking in the lot adjacent to the County Office Building will be available as space permits.
X-ALT-DESC;FMTTYPE=text/html:Dutchess County Clerk Brad Kendall announces Passport Day\, which will be held on Saturday\, October 20\, 2018 from 9:00 am until 1:00 pm at the Dutchess County Clerk&rsquo\;s Office\, 22 Market Street&ndash\; 1st Floor\, Poughkeepsie\, New York 12601. Adults who are first-time applicants\, children under age 16 or those who obtained their current passport before they turned 16\, or those needing a replacement for a lost\, stolen\, or damaged passport will be assisted on a first-come\, first served basis. All U.S. citizens must present a valid passport book when entering or re-entering the United States by air. U.S. citizens entering the United States from Canada\, Mexico\, the Caribbean and Bermuda at land borders and sea ports of entry must present a passport book\, passport card\, or other travel documents approved by the U.S. government. As a passport processing facility\, the County Clerk&rsquo\;s Office serves as a one-stop shop where individuals and families applying for a U.S. passport can also have their passport photos taken outside of normal business hours. Free parking in the lot adjacent to the County Office Building will be available as space permits.
LOCATION:Office of the Dutchess County Clerk Dutchess County Office Building 22 Market Street 1st Floor Poughkeepsie\, New York 12601
UID:e.2770.10479809
SEQUENCE:3
DTSTAMP:20260425T115045Z
URL:https://business.dcrcoc.org/events/details/passport-day-at-dutchess-county-clerk-s-office-10479809
END:VEVENT

END:VCALENDAR
