BEGIN:VCALENDAR
VERSION:2.0
PRODID:-//ChamberMaster//Event Calendar 2.0//EN
METHOD:PUBLISH
X-PUBLISHED-TTL:P3D
REFRESH-INTERVAL:P3D
CALSCALE:GREGORIAN
BEGIN:VEVENT
DTSTART:20180829T220000Z
DTEND:20180830T000000Z
X-MICROSOFT-CDO-ALLDAYEVENT:FALSE
SUMMARY:Path to Entrepreneurship Program
DESCRIPTION:Do You Have What it Takes to be a Successful Entrepreneur?\n\nFind Out Now!\n  FREE program \n\n  Introduction to small business ownership\n\n  Characteristics of a successful entrepreneur\n\n  What it takes to run your own business
X-ALT-DESC;FMTTYPE=text/html:<h1><span style="font-family:times new roman"><strong><span style="font-size:22.0pt">Do You Have What it Takes to be a Successful Entrepreneur?</span></strong></span></h1>\n\n<h2><strong><span style="font-family:calibri"><span style="font-size:22.0pt">Find Out Now!</span></span></strong></h2>\n<span style="font-size:10.0pt"><span style="font-family:symbol">&middot\;</span></span>&nbsp\;<span style="font-family:calibri"><span style="font-size:14.0pt">FREE program </span></span><br />\n<span style="font-size:10.0pt"><span style="font-family:symbol">&middot\;</span></span>&nbsp\;<span style="font-family:calibri"><span style="font-size:14.0pt">Introduction to small business ownership</span></span><br />\n<span style="font-size:10.0pt"><span style="font-family:symbol">&middot\;</span></span>&nbsp\;<span style="font-family:calibri"><span style="font-size:14.0pt">Characteristics of a successful entrepreneur</span></span><br />\n<span style="font-size:10.0pt"><span style="font-family:symbol">&middot\;</span></span>&nbsp\;<span style="font-family:calibri"><span style="font-size:14.0pt">What it takes to run your own business</span></span><br />\n&nbsp\;
LOCATION:WEDC / Think Dutchess Alliance for Business Offices 3 Neptune Road Suite A21 - Poughkeepsie - NY - 12601
UID:e.2770.10479294
SEQUENCE:3
DTSTAMP:20260425T143320Z
URL:https://business.dcrcoc.org/events/details/path-to-entrepreneurship-program-08-29-2018-10479294
END:VEVENT

END:VCALENDAR
